BEGIN:VCALENDAR
VERSION:2.0
PRODID:-//I.M.P.A.C.T. - ECPv6.15.20//NONSGML v1.0//EN
CALSCALE:GREGORIAN
METHOD:PUBLISH
X-WR-CALNAME:I.M.P.A.C.T.
X-ORIGINAL-URL:https://www.impactph.org
X-WR-CALDESC:Events for I.M.P.A.C.T.
REFRESH-INTERVAL;VALUE=DURATION:PT1H
X-Robots-Tag:noindex
X-PUBLISHED-TTL:PT1H
BEGIN:VTIMEZONE
TZID:America/Detroit
BEGIN:DAYLIGHT
TZOFFSETFROM:-0500
TZOFFSETTO:-0400
TZNAME:EDT
DTSTART:20250309T070000
END:DAYLIGHT
BEGIN:STANDARD
TZOFFSETFROM:-0400
TZOFFSETTO:-0500
TZNAME:EST
DTSTART:20251102T060000
END:STANDARD
BEGIN:DAYLIGHT
TZOFFSETFROM:-0500
TZOFFSETTO:-0400
TZNAME:EDT
DTSTART:20260308T070000
END:DAYLIGHT
BEGIN:STANDARD
TZOFFSETFROM:-0400
TZOFFSETTO:-0500
TZNAME:EST
DTSTART:20261101T060000
END:STANDARD
BEGIN:DAYLIGHT
TZOFFSETFROM:-0500
TZOFFSETTO:-0400
TZNAME:EDT
DTSTART:20270314T070000
END:DAYLIGHT
BEGIN:STANDARD
TZOFFSETFROM:-0400
TZOFFSETTO:-0500
TZNAME:EST
DTSTART:20271107T060000
END:STANDARD
END:VTIMEZONE
BEGIN:VEVENT
DTSTART;TZID=America/Detroit:20260514T090000
DTEND;TZID=America/Detroit:20260514T120000
DTSTAMP:20260423T112023
CREATED:20250918T154519Z
LAST-MODIFIED:20250918T154519Z
UID:32530-1778749200-1778760000@www.impactph.org
SUMMARY:Management Meeting
DESCRIPTION:
URL:https://www.impactph.org/event/management-meeting-202/
LOCATION:IMPACT Administration\, 1001 Military Street\, Port Huron\, MI\, 48060\, United States
CATEGORIES:Event,Management Meetings
ORGANIZER;CN="Executive Director":MAILTO:kcurtis@impactph.org
END:VEVENT
BEGIN:VEVENT
DTSTART;TZID=America/Detroit:20260518T170000
DTEND;TZID=America/Detroit:20260518T190000
DTSTAMP:20260423T112023
CREATED:20250918T154328Z
LAST-MODIFIED:20250918T154328Z
UID:32506-1779123600-1779130800@www.impactph.org
SUMMARY:Executive Board Meeting
DESCRIPTION:
URL:https://www.impactph.org/event/executive-board-meeting-78/
LOCATION:IMPACT Administration\, 1001 Military Street\, Port Huron\, MI\, 48060\, United States
CATEGORIES:Event,Executive Board Meetings
ORGANIZER;CN="Executive Director":MAILTO:kcurtis@impactph.org
END:VEVENT
BEGIN:VEVENT
DTSTART;TZID=America/Detroit:20260519T100000
DTEND;TZID=America/Detroit:20260519T123000
DTSTAMP:20260423T112023
CREATED:20250918T154623Z
LAST-MODIFIED:20250918T154623Z
UID:32554-1779184800-1779193800@www.impactph.org
SUMMARY:Supervisor Meeting
DESCRIPTION:
URL:https://www.impactph.org/event/supervisor-meeting-90/
LOCATION:IMPACT Administration\, 1001 Military Street\, Port Huron\, MI\, 48060\, United States
CATEGORIES:Event,Supervisor Meetings
ORGANIZER;CN="Executive Director":MAILTO:kcurtis@impactph.org
END:VEVENT
BEGIN:VEVENT
DTSTART;TZID=America/Detroit:20260519T150000
DTEND;TZID=America/Detroit:20260519T163000
DTSTAMP:20260423T112023
CREATED:20250918T154357Z
LAST-MODIFIED:20250918T154357Z
UID:32513-1779202800-1779208200@www.impactph.org
SUMMARY:Health & Safety Meeting
DESCRIPTION:
URL:https://www.impactph.org/event/health-safety-meeting-59/
LOCATION:IMPACT Administration\, 1001 Military Street\, Port Huron\, MI\, 48060\, United States
CATEGORIES:Event,Health & Safety Meetings
ORGANIZER;CN="Executive Director":MAILTO:kcurtis@impactph.org
END:VEVENT
BEGIN:VEVENT
DTSTART;VALUE=DATE:20260525
DTEND;VALUE=DATE:20260526
DTSTAMP:20260423T112023
CREATED:20250918T154536Z
LAST-MODIFIED:20250918T154536Z
UID:32540-1779667200-1779753599@www.impactph.org
SUMMARY:Memorial Day
DESCRIPTION:
URL:https://www.impactph.org/event/memorial-day-9/
CATEGORIES:Event,Holiday
ORGANIZER;CN="Executive Director":MAILTO:kcurtis@impactph.org
END:VEVENT
BEGIN:VEVENT
DTSTART;TZID=America/Detroit:20260528T090000
DTEND;TZID=America/Detroit:20260528T120000
DTSTAMP:20260423T112023
CREATED:20250918T154520Z
LAST-MODIFIED:20250918T154520Z
UID:32531-1779958800-1779969600@www.impactph.org
SUMMARY:Management Meeting
DESCRIPTION:
URL:https://www.impactph.org/event/management-meeting-203/
LOCATION:IMPACT Administration\, 1001 Military Street\, Port Huron\, MI\, 48060\, United States
CATEGORIES:Event,Management Meetings
ORGANIZER;CN="Executive Director":MAILTO:kcurtis@impactph.org
END:VEVENT
END:VCALENDAR