BEGIN:VCALENDAR
VERSION:2.0
PRODID:-//I.M.P.A.C.T. - ECPv6.15.20//NONSGML v1.0//EN
CALSCALE:GREGORIAN
METHOD:PUBLISH
X-WR-CALNAME:I.M.P.A.C.T.
X-ORIGINAL-URL:https://www.impactph.org
X-WR-CALDESC:Events for I.M.P.A.C.T.
REFRESH-INTERVAL;VALUE=DURATION:PT1H
X-Robots-Tag:noindex
X-PUBLISHED-TTL:PT1H
BEGIN:VTIMEZONE
TZID:America/Detroit
BEGIN:DAYLIGHT
TZOFFSETFROM:-0500
TZOFFSETTO:-0400
TZNAME:EDT
DTSTART:20240310T070000
END:DAYLIGHT
BEGIN:STANDARD
TZOFFSETFROM:-0400
TZOFFSETTO:-0500
TZNAME:EST
DTSTART:20241103T060000
END:STANDARD
BEGIN:DAYLIGHT
TZOFFSETFROM:-0500
TZOFFSETTO:-0400
TZNAME:EDT
DTSTART:20250309T070000
END:DAYLIGHT
BEGIN:STANDARD
TZOFFSETFROM:-0400
TZOFFSETTO:-0500
TZNAME:EST
DTSTART:20251102T060000
END:STANDARD
BEGIN:DAYLIGHT
TZOFFSETFROM:-0500
TZOFFSETTO:-0400
TZNAME:EDT
DTSTART:20260308T070000
END:DAYLIGHT
BEGIN:STANDARD
TZOFFSETFROM:-0400
TZOFFSETTO:-0500
TZNAME:EST
DTSTART:20261101T060000
END:STANDARD
END:VTIMEZONE
BEGIN:VEVENT
DTSTART;VALUE=DATE:20250704
DTEND;VALUE=DATE:20250705
DTSTAMP:20260423T233255
CREATED:20241004T134336Z
LAST-MODIFIED:20241004T134336Z
UID:17143-1751587200-1751673599@www.impactph.org
SUMMARY:Independence Day
DESCRIPTION:
URL:https://www.impactph.org/event/independence-day-8/
CATEGORIES:Holiday
ORGANIZER;CN="Executive Director":MAILTO:kcurtis@impactph.org
END:VEVENT
BEGIN:VEVENT
DTSTART;TZID=America/Detroit:20250709T130000
DTEND;TZID=America/Detroit:20250709T150000
DTSTAMP:20260423T233255
CREATED:20241004T135052Z
LAST-MODIFIED:20241004T135052Z
UID:17173-1752066000-1752073200@www.impactph.org
SUMMARY:Quality Improvement Meeting
DESCRIPTION:
URL:https://www.impactph.org/event/quality-improvement-meeting-32/
LOCATION:IMPACT Administration\, 1001 Military Street\, Port Huron\, MI\, 48060\, United States
CATEGORIES:Quality Improvement Meetings
ORGANIZER;CN="Executive Director":MAILTO:kcurtis@impactph.org
END:VEVENT
BEGIN:VEVENT
DTSTART;TZID=America/Detroit:20250710T090000
DTEND;TZID=America/Detroit:20250710T120000
DTSTAMP:20260423T233255
CREATED:20241004T135011Z
LAST-MODIFIED:20241004T135011Z
UID:17161-1752138000-1752148800@www.impactph.org
SUMMARY:Management Meeting
DESCRIPTION:
URL:https://www.impactph.org/event/management-meeting-184/
LOCATION:IMPACT Administration\, 1001 Military Street\, Port Huron\, MI\, 48060\, United States
CATEGORIES:Management Meetings
ORGANIZER;CN="Executive Director":MAILTO:kcurtis@impactph.org
END:VEVENT
BEGIN:VEVENT
DTSTART;TZID=America/Detroit:20250715T100000
DTEND;TZID=America/Detroit:20250715T123000
DTSTAMP:20260423T233255
CREATED:20241004T135333Z
LAST-MODIFIED:20241004T135333Z
UID:17184-1752573600-1752582600@www.impactph.org
SUMMARY:Supervisor Meeting
DESCRIPTION:
URL:https://www.impactph.org/event/supervisor-meeting-80/
LOCATION:IMPACT Administration\, 1001 Military Street\, Port Huron\, MI\, 48060\, United States
CATEGORIES:Supervisor Meetings
ORGANIZER;CN="Executive Director":MAILTO:kcurtis@impactph.org
END:VEVENT
BEGIN:VEVENT
DTSTART;TZID=America/Detroit:20250715T150000
DTEND;TZID=America/Detroit:20250715T163000
DTSTAMP:20260423T233255
CREATED:20241004T134336Z
LAST-MODIFIED:20241004T134336Z
UID:17141-1752591600-1752597000@www.impactph.org
SUMMARY:Health & Safety Meeting
DESCRIPTION:
URL:https://www.impactph.org/event/health-safety-meeting-54/
LOCATION:IMPACT Administration\, 1001 Military Street\, Port Huron\, MI\, 48060\, United States
CATEGORIES:Health & Safety Meetings
ORGANIZER;CN="Executive Director":MAILTO:kcurtis@impactph.org
END:VEVENT
BEGIN:VEVENT
DTSTART;TZID=America/Detroit:20250724T090000
DTEND;TZID=America/Detroit:20250724T120000
DTSTAMP:20260423T233255
CREATED:20241004T135012Z
LAST-MODIFIED:20241004T135012Z
UID:17162-1753347600-1753358400@www.impactph.org
SUMMARY:Management Meeting
DESCRIPTION:
URL:https://www.impactph.org/event/management-meeting-185/
LOCATION:IMPACT Administration\, 1001 Military Street\, Port Huron\, MI\, 48060\, United States
CATEGORIES:Management Meetings
ORGANIZER;CN="Executive Director":MAILTO:kcurtis@impactph.org
END:VEVENT
END:VCALENDAR