BEGIN:VCALENDAR
VERSION:2.0
PRODID:-//I.M.P.A.C.T. - ECPv6.15.20//NONSGML v1.0//EN
CALSCALE:GREGORIAN
METHOD:PUBLISH
X-ORIGINAL-URL:https://www.impactph.org
X-WR-CALDESC:Events for I.M.P.A.C.T.
REFRESH-INTERVAL;VALUE=DURATION:PT1H
X-Robots-Tag:noindex
X-PUBLISHED-TTL:PT1H
BEGIN:VTIMEZONE
TZID:America/Detroit
BEGIN:DAYLIGHT
TZOFFSETFROM:-0500
TZOFFSETTO:-0400
TZNAME:EDT
DTSTART:20230312T070000
END:DAYLIGHT
BEGIN:STANDARD
TZOFFSETFROM:-0400
TZOFFSETTO:-0500
TZNAME:EST
DTSTART:20231105T060000
END:STANDARD
BEGIN:DAYLIGHT
TZOFFSETFROM:-0500
TZOFFSETTO:-0400
TZNAME:EDT
DTSTART:20240310T070000
END:DAYLIGHT
BEGIN:STANDARD
TZOFFSETFROM:-0400
TZOFFSETTO:-0500
TZNAME:EST
DTSTART:20241103T060000
END:STANDARD
BEGIN:DAYLIGHT
TZOFFSETFROM:-0500
TZOFFSETTO:-0400
TZNAME:EDT
DTSTART:20250309T070000
END:DAYLIGHT
BEGIN:STANDARD
TZOFFSETFROM:-0400
TZOFFSETTO:-0500
TZNAME:EST
DTSTART:20251102T060000
END:STANDARD
END:VTIMEZONE
BEGIN:VEVENT
DTSTART;TZID=America/Detroit:20241009T130000
DTEND;TZID=America/Detroit:20241009T150000
DTSTAMP:20260424T144714
CREATED:20241004T135050Z
LAST-MODIFIED:20241004T135050Z
UID:17170-1728478800-1728486000@www.impactph.org
SUMMARY:Quality Improvement Meeting
DESCRIPTION:
URL:https://www.impactph.org/event/quality-improvement-meeting-29/
LOCATION:IMPACT Administration\, 1001 Military Street\, Port Huron\, MI\, 48060\, United States
CATEGORIES:Quality Improvement Meetings
ORGANIZER;CN="Executive Director":MAILTO:kcurtis@impactph.org
END:VEVENT
BEGIN:VEVENT
DTSTART;TZID=America/Detroit:20241010T090000
DTEND;TZID=America/Detroit:20241010T120000
DTSTAMP:20260424T144714
CREATED:20241004T134920Z
LAST-MODIFIED:20241004T134920Z
UID:17145-1728550800-1728561600@www.impactph.org
SUMMARY:Management Meeting
DESCRIPTION:
URL:https://www.impactph.org/event/management-meeting-168/
LOCATION:IMPACT Administration\, 1001 Military Street\, Port Huron\, MI\, 48060\, United States
CATEGORIES:Management Meetings
ORGANIZER;CN="Executive Director":MAILTO:kcurtis@impactph.org
END:VEVENT
BEGIN:VEVENT
DTSTART;TZID=America/Detroit:20241015T100000
DTEND;TZID=America/Detroit:20241015T123000
DTSTAMP:20260424T144714
CREATED:20241004T135052Z
LAST-MODIFIED:20241004T135052Z
UID:17174-1728986400-1728995400@www.impactph.org
SUMMARY:Supervisor Meeting
DESCRIPTION:
URL:https://www.impactph.org/event/supervisor-meeting-71/
LOCATION:IMPACT Administration\, 1001 Military Street\, Port Huron\, MI\, 48060\, United States
CATEGORIES:Supervisor Meetings
ORGANIZER;CN="Executive Director":MAILTO:kcurtis@impactph.org
END:VEVENT
BEGIN:VEVENT
DTSTART;TZID=America/Detroit:20241021T170000
DTEND;TZID=America/Detroit:20241021T190000
DTSTAMP:20260424T144714
CREATED:20241004T134300Z
LAST-MODIFIED:20241004T134300Z
UID:17127-1729530000-1729537200@www.impactph.org
SUMMARY:Executive Board Meeting
DESCRIPTION:
URL:https://www.impactph.org/event/executive-board-meeting-63/
LOCATION:IMPACT Administration\, 1001 Military Street\, Port Huron\, MI\, 48060\, United States
CATEGORIES:Executive Board Meetings
ORGANIZER;CN="Executive Director":MAILTO:kcurtis@impactph.org
END:VEVENT
BEGIN:VEVENT
DTSTART;TZID=America/Detroit:20241024T090000
DTEND;TZID=America/Detroit:20241024T120000
DTSTAMP:20260424T144714
CREATED:20241004T134921Z
LAST-MODIFIED:20241004T134921Z
UID:17146-1729760400-1729771200@www.impactph.org
SUMMARY:Management Meeting
DESCRIPTION:
URL:https://www.impactph.org/event/management-meeting-169/
LOCATION:IMPACT Administration\, 1001 Military Street\, Port Huron\, MI\, 48060\, United States
CATEGORIES:Management Meetings
ORGANIZER;CN="Executive Director":MAILTO:kcurtis@impactph.org
END:VEVENT
BEGIN:VEVENT
DTSTART;VALUE=DATE:20241031
DTEND;VALUE=DATE:20241101
DTSTAMP:20260424T144714
CREATED:20241004T134321Z
LAST-MODIFIED:20241004T134321Z
UID:17136-1730332800-1730419199@www.impactph.org
SUMMARY:Halloween
DESCRIPTION:
URL:https://www.impactph.org/event/halloween-5/
CATEGORIES:Holiday
ORGANIZER;CN="Executive Director":MAILTO:kcurtis@impactph.org
END:VEVENT
END:VCALENDAR