BEGIN:VCALENDAR
VERSION:2.0
PRODID:-//I.M.P.A.C.T. - ECPv6.15.20//NONSGML v1.0//EN
CALSCALE:GREGORIAN
METHOD:PUBLISH
X-WR-CALNAME:I.M.P.A.C.T.
X-ORIGINAL-URL:https://www.impactph.org
X-WR-CALDESC:Events for I.M.P.A.C.T.
REFRESH-INTERVAL;VALUE=DURATION:PT1H
X-Robots-Tag:noindex
X-PUBLISHED-TTL:PT1H
BEGIN:VTIMEZONE
TZID:America/Detroit
BEGIN:DAYLIGHT
TZOFFSETFROM:-0500
TZOFFSETTO:-0400
TZNAME:EDT
DTSTART:20240310T070000
END:DAYLIGHT
BEGIN:STANDARD
TZOFFSETFROM:-0400
TZOFFSETTO:-0500
TZNAME:EST
DTSTART:20241103T060000
END:STANDARD
BEGIN:DAYLIGHT
TZOFFSETFROM:-0500
TZOFFSETTO:-0400
TZNAME:EDT
DTSTART:20250309T070000
END:DAYLIGHT
BEGIN:STANDARD
TZOFFSETFROM:-0400
TZOFFSETTO:-0500
TZNAME:EST
DTSTART:20251102T060000
END:STANDARD
BEGIN:DAYLIGHT
TZOFFSETFROM:-0500
TZOFFSETTO:-0400
TZNAME:EDT
DTSTART:20260308T070000
END:DAYLIGHT
BEGIN:STANDARD
TZOFFSETFROM:-0400
TZOFFSETTO:-0500
TZNAME:EST
DTSTART:20261101T060000
END:STANDARD
END:VTIMEZONE
BEGIN:VEVENT
DTSTART;TZID=America/Detroit:20251020T170000
DTEND;TZID=America/Detroit:20251020T190000
DTSTAMP:20260423T191734
CREATED:20250918T154323Z
LAST-MODIFIED:20250918T154323Z
UID:32500-1760979600-1760986800@www.impactph.org
SUMMARY:Executive Board Meeting
DESCRIPTION:
URL:https://www.impactph.org/event/executive-board-meeting-72/
LOCATION:IMPACT Administration\, 1001 Military Street\, Port Huron\, MI\, 48060\, United States
CATEGORIES:Event,Executive Board Meetings
ORGANIZER;CN="Executive Director":MAILTO:kcurtis@impactph.org
END:VEVENT
BEGIN:VEVENT
DTSTART;TZID=America/Detroit:20251009T090000
DTEND;TZID=America/Detroit:20251009T120000
DTSTAMP:20260423T191734
CREATED:20250918T154459Z
LAST-MODIFIED:20250918T154459Z
UID:32518-1760000400-1760011200@www.impactph.org
SUMMARY:Management Meeting
DESCRIPTION:
URL:https://www.impactph.org/event/management-meeting-190/
LOCATION:IMPACT Administration\, 1001 Military Street\, Port Huron\, MI\, 48060\, United States
CATEGORIES:Event,Management Meetings
ORGANIZER;CN="Executive Director":MAILTO:kcurtis@impactph.org
END:VEVENT
BEGIN:VEVENT
DTSTART;TZID=America/Detroit:20251008T130000
DTEND;TZID=America/Detroit:20251008T150000
DTSTAMP:20260423T191734
CREATED:20250918T154553Z
LAST-MODIFIED:20250918T154553Z
UID:32543-1759928400-1759935600@www.impactph.org
SUMMARY:Quality Improvement Meeting
DESCRIPTION:
URL:https://www.impactph.org/event/quality-improvement-meeting-33/
LOCATION:IMPACT Administration\, 1001 Military Street\, Port Huron\, MI\, 48060\, United States
CATEGORIES:Event,Quality Improvement Meetings
ORGANIZER;CN="Executive Director":MAILTO:kcurtis@impactph.org
END:VEVENT
BEGIN:VEVENT
DTSTART;TZID=America/Detroit:20250925T090000
DTEND;TZID=America/Detroit:20250925T120000
DTSTAMP:20260423T191734
CREATED:20241004T135028Z
LAST-MODIFIED:20241004T135028Z
UID:17166-1758790800-1758801600@www.impactph.org
SUMMARY:Management Meeting
DESCRIPTION:
URL:https://www.impactph.org/event/management-meeting-189/
LOCATION:IMPACT Administration\, 1001 Military Street\, Port Huron\, MI\, 48060\, United States
CATEGORIES:Management Meetings
ORGANIZER;CN="Executive Director":MAILTO:kcurtis@impactph.org
END:VEVENT
BEGIN:VEVENT
DTSTART;TZID=America/Detroit:20250916T150000
DTEND;TZID=America/Detroit:20250916T163000
DTSTAMP:20260423T191734
CREATED:20241004T134336Z
LAST-MODIFIED:20241004T134336Z
UID:17142-1758034800-1758040200@www.impactph.org
SUMMARY:Health & Safety Meeting
DESCRIPTION:
URL:https://www.impactph.org/event/health-safety-meeting-55/
LOCATION:IMPACT Administration\, 1001 Military Street\, Port Huron\, MI\, 48060\, United States
CATEGORIES:Health & Safety Meetings
ORGANIZER;CN="Executive Director":MAILTO:kcurtis@impactph.org
END:VEVENT
BEGIN:VEVENT
DTSTART;TZID=America/Detroit:20250916T100000
DTEND;TZID=America/Detroit:20250916T123000
DTSTAMP:20260423T191734
CREATED:20241004T135348Z
LAST-MODIFIED:20241004T135348Z
UID:17186-1758016800-1758025800@www.impactph.org
SUMMARY:Supervisor Meeting
DESCRIPTION:
URL:https://www.impactph.org/event/supervisor-meeting-82/
LOCATION:IMPACT Administration\, 1001 Military Street\, Port Huron\, MI\, 48060\, United States
CATEGORIES:Supervisor Meetings
ORGANIZER;CN="Executive Director":MAILTO:kcurtis@impactph.org
END:VEVENT
BEGIN:VEVENT
DTSTART;TZID=America/Detroit:20250915T170000
DTEND;TZID=America/Detroit:20250915T190000
DTSTAMP:20260423T191734
CREATED:20241004T134321Z
LAST-MODIFIED:20241004T134321Z
UID:17135-1757955600-1757962800@www.impactph.org
SUMMARY:Executive Board Meeting
DESCRIPTION:
URL:https://www.impactph.org/event/executive-board-meeting-71/
LOCATION:IMPACT Administration\, 1001 Military Street\, Port Huron\, MI\, 48060\, United States
CATEGORIES:Executive Board Meetings
ORGANIZER;CN="Executive Director":MAILTO:kcurtis@impactph.org
END:VEVENT
BEGIN:VEVENT
DTSTART;TZID=America/Detroit:20250911T090000
DTEND;TZID=America/Detroit:20250911T120000
DTSTAMP:20260423T191734
CREATED:20241004T135026Z
LAST-MODIFIED:20241004T135026Z
UID:17165-1757581200-1757592000@www.impactph.org
SUMMARY:Management Meeting
DESCRIPTION:
URL:https://www.impactph.org/event/management-meeting-188/
LOCATION:IMPACT Administration\, 1001 Military Street\, Port Huron\, MI\, 48060\, United States
CATEGORIES:Management Meetings
ORGANIZER;CN="Executive Director":MAILTO:kcurtis@impactph.org
END:VEVENT
BEGIN:VEVENT
DTSTART;VALUE=DATE:20250901
DTEND;VALUE=DATE:20250902
DTSTAMP:20260423T191734
CREATED:20241004T134336Z
LAST-MODIFIED:20241004T134336Z
UID:17144-1756684800-1756771199@www.impactph.org
SUMMARY:Labor Day
DESCRIPTION:
URL:https://www.impactph.org/event/labor-day-5/
LOCATION:MI
CATEGORIES:Holiday
ORGANIZER;CN="Executive Director":MAILTO:kcurtis@impactph.org
END:VEVENT
BEGIN:VEVENT
DTSTART;TZID=America/Detroit:20250828T090000
DTEND;TZID=America/Detroit:20250828T120000
DTSTAMP:20260423T191734
CREATED:20241004T135014Z
LAST-MODIFIED:20241004T135014Z
UID:17164-1756371600-1756382400@www.impactph.org
SUMMARY:Management Meeting
DESCRIPTION:
URL:https://www.impactph.org/event/management-meeting-187/
LOCATION:IMPACT Administration\, 1001 Military Street\, Port Huron\, MI\, 48060\, United States
CATEGORIES:Management Meetings
ORGANIZER;CN="Executive Director":MAILTO:kcurtis@impactph.org
END:VEVENT
BEGIN:VEVENT
DTSTART;TZID=America/Detroit:20250819T100000
DTEND;TZID=America/Detroit:20250819T123000
DTSTAMP:20260423T191734
CREATED:20241004T135334Z
LAST-MODIFIED:20241004T135334Z
UID:17185-1755597600-1755606600@www.impactph.org
SUMMARY:Supervisor Meeting
DESCRIPTION:
URL:https://www.impactph.org/event/supervisor-meeting-81/
LOCATION:IMPACT Administration\, 1001 Military Street\, Port Huron\, MI\, 48060\, United States
CATEGORIES:Supervisor Meetings
ORGANIZER;CN="Executive Director":MAILTO:kcurtis@impactph.org
END:VEVENT
BEGIN:VEVENT
DTSTART;TZID=America/Detroit:20250814T090000
DTEND;TZID=America/Detroit:20250814T120000
DTSTAMP:20260423T191734
CREATED:20241004T135013Z
LAST-MODIFIED:20241004T135013Z
UID:17163-1755162000-1755172800@www.impactph.org
SUMMARY:Management Meeting
DESCRIPTION:
URL:https://www.impactph.org/event/management-meeting-186/
LOCATION:IMPACT Administration\, 1001 Military Street\, Port Huron\, MI\, 48060\, United States
CATEGORIES:Management Meetings
ORGANIZER;CN="Executive Director":MAILTO:kcurtis@impactph.org
END:VEVENT
BEGIN:VEVENT
DTSTART;VALUE=DATE:20250801
DTEND;VALUE=DATE:20250901
DTSTAMP:20260423T191734
CREATED:20241004T135349Z
LAST-MODIFIED:20241004T135349Z
UID:17188-1754006400-1756684799@www.impactph.org
SUMMARY:United Way Campaign
DESCRIPTION:
URL:https://www.impactph.org/event/united-way-campaign-4/
LOCATION:MI
CATEGORIES:Agency / Community Events
ORGANIZER;CN="Kris Curtis":MAILTO:kcurtis@impactph.org
END:VEVENT
BEGIN:VEVENT
DTSTART;TZID=America/Detroit:20250724T090000
DTEND;TZID=America/Detroit:20250724T120000
DTSTAMP:20260423T191734
CREATED:20241004T135012Z
LAST-MODIFIED:20241004T135012Z
UID:17162-1753347600-1753358400@www.impactph.org
SUMMARY:Management Meeting
DESCRIPTION:
URL:https://www.impactph.org/event/management-meeting-185/
LOCATION:IMPACT Administration\, 1001 Military Street\, Port Huron\, MI\, 48060\, United States
CATEGORIES:Management Meetings
ORGANIZER;CN="Executive Director":MAILTO:kcurtis@impactph.org
END:VEVENT
BEGIN:VEVENT
DTSTART;TZID=America/Detroit:20250715T150000
DTEND;TZID=America/Detroit:20250715T163000
DTSTAMP:20260423T191734
CREATED:20241004T134336Z
LAST-MODIFIED:20241004T134336Z
UID:17141-1752591600-1752597000@www.impactph.org
SUMMARY:Health & Safety Meeting
DESCRIPTION:
URL:https://www.impactph.org/event/health-safety-meeting-54/
LOCATION:IMPACT Administration\, 1001 Military Street\, Port Huron\, MI\, 48060\, United States
CATEGORIES:Health & Safety Meetings
ORGANIZER;CN="Executive Director":MAILTO:kcurtis@impactph.org
END:VEVENT
BEGIN:VEVENT
DTSTART;TZID=America/Detroit:20250715T100000
DTEND;TZID=America/Detroit:20250715T123000
DTSTAMP:20260423T191734
CREATED:20241004T135333Z
LAST-MODIFIED:20241004T135333Z
UID:17184-1752573600-1752582600@www.impactph.org
SUMMARY:Supervisor Meeting
DESCRIPTION:
URL:https://www.impactph.org/event/supervisor-meeting-80/
LOCATION:IMPACT Administration\, 1001 Military Street\, Port Huron\, MI\, 48060\, United States
CATEGORIES:Supervisor Meetings
ORGANIZER;CN="Executive Director":MAILTO:kcurtis@impactph.org
END:VEVENT
BEGIN:VEVENT
DTSTART;TZID=America/Detroit:20250710T090000
DTEND;TZID=America/Detroit:20250710T120000
DTSTAMP:20260423T191734
CREATED:20241004T135011Z
LAST-MODIFIED:20241004T135011Z
UID:17161-1752138000-1752148800@www.impactph.org
SUMMARY:Management Meeting
DESCRIPTION:
URL:https://www.impactph.org/event/management-meeting-184/
LOCATION:IMPACT Administration\, 1001 Military Street\, Port Huron\, MI\, 48060\, United States
CATEGORIES:Management Meetings
ORGANIZER;CN="Executive Director":MAILTO:kcurtis@impactph.org
END:VEVENT
BEGIN:VEVENT
DTSTART;TZID=America/Detroit:20250709T130000
DTEND;TZID=America/Detroit:20250709T150000
DTSTAMP:20260423T191734
CREATED:20241004T135052Z
LAST-MODIFIED:20241004T135052Z
UID:17173-1752066000-1752073200@www.impactph.org
SUMMARY:Quality Improvement Meeting
DESCRIPTION:
URL:https://www.impactph.org/event/quality-improvement-meeting-32/
LOCATION:IMPACT Administration\, 1001 Military Street\, Port Huron\, MI\, 48060\, United States
CATEGORIES:Quality Improvement Meetings
ORGANIZER;CN="Executive Director":MAILTO:kcurtis@impactph.org
END:VEVENT
BEGIN:VEVENT
DTSTART;VALUE=DATE:20250704
DTEND;VALUE=DATE:20250705
DTSTAMP:20260423T191734
CREATED:20241004T134336Z
LAST-MODIFIED:20241004T134336Z
UID:17143-1751587200-1751673599@www.impactph.org
SUMMARY:Independence Day
DESCRIPTION:
URL:https://www.impactph.org/event/independence-day-8/
LOCATION:MI
CATEGORIES:Holiday
ORGANIZER;CN="Executive Director":MAILTO:kcurtis@impactph.org
END:VEVENT
BEGIN:VEVENT
DTSTART;TZID=America/Detroit:20250626T090000
DTEND;TZID=America/Detroit:20250626T120000
DTSTAMP:20260423T191734
CREATED:20241004T135011Z
LAST-MODIFIED:20241004T135011Z
UID:17160-1750928400-1750939200@www.impactph.org
SUMMARY:Management Meeting
DESCRIPTION:
URL:https://www.impactph.org/event/management-meeting-183/
LOCATION:IMPACT Administration\, 1001 Military Street\, Port Huron\, MI\, 48060\, United States
CATEGORIES:Management Meetings
ORGANIZER;CN="Executive Director":MAILTO:kcurtis@impactph.org
END:VEVENT
BEGIN:VEVENT
DTSTART;VALUE=DATE:20250620
DTEND;VALUE=DATE:20250621
DTSTAMP:20260423T191734
CREATED:20241004T135031Z
LAST-MODIFIED:20241004T135031Z
UID:17169-1750377600-1750463999@www.impactph.org
SUMMARY:Picnic & Staff Recognition
DESCRIPTION:
URL:https://www.impactph.org/event/picnic-staff-recognition-6/
LOCATION:Goodells County Park\, 8264 County Park Dr.\, Goodells\, MI\, 48027\, United States
CATEGORIES:Agency / Community Events
ORGANIZER;CN="Denise Ellery":MAILTO:dellery@impactph.org
END:VEVENT
BEGIN:VEVENT
DTSTART;TZID=America/Detroit:20250617T100000
DTEND;TZID=America/Detroit:20250617T123000
DTSTAMP:20260423T191734
CREATED:20241004T135333Z
LAST-MODIFIED:20241004T135333Z
UID:17183-1750154400-1750163400@www.impactph.org
SUMMARY:Supervisor Meeting
DESCRIPTION:
URL:https://www.impactph.org/event/supervisor-meeting-79/
LOCATION:IMPACT Administration\, 1001 Military Street\, Port Huron\, MI\, 48060\, United States
CATEGORIES:Supervisor Meetings
ORGANIZER;CN="Executive Director":MAILTO:kcurtis@impactph.org
END:VEVENT
BEGIN:VEVENT
DTSTART;TZID=America/Detroit:20250616T170000
DTEND;TZID=America/Detroit:20250616T190000
DTSTAMP:20260423T191734
CREATED:20241004T134306Z
LAST-MODIFIED:20241004T134306Z
UID:17134-1750093200-1750100400@www.impactph.org
SUMMARY:Executive Board Meeting
DESCRIPTION:
URL:https://www.impactph.org/event/executive-board-meeting-70/
LOCATION:IMPACT Administration\, 1001 Military Street\, Port Huron\, MI\, 48060\, United States
CATEGORIES:Executive Board Meetings
ORGANIZER;CN="Executive Director":MAILTO:kcurtis@impactph.org
END:VEVENT
BEGIN:VEVENT
DTSTART;TZID=America/Detroit:20250612T090000
DTEND;TZID=America/Detroit:20250612T120000
DTSTAMP:20260423T191734
CREATED:20241004T134952Z
LAST-MODIFIED:20241004T134952Z
UID:17159-1749718800-1749729600@www.impactph.org
SUMMARY:Management Meeting
DESCRIPTION:
URL:https://www.impactph.org/event/management-meeting-182/
LOCATION:IMPACT Administration\, 1001 Military Street\, Port Huron\, MI\, 48060\, United States
CATEGORIES:Management Meetings
ORGANIZER;CN="Executive Director":MAILTO:kcurtis@impactph.org
END:VEVENT
BEGIN:VEVENT
DTSTART;VALUE=DATE:20250526
DTEND;VALUE=DATE:20250527
DTSTAMP:20260423T191734
CREATED:20241004T135029Z
LAST-MODIFIED:20241004T135029Z
UID:17167-1748217600-1748303999@www.impactph.org
SUMMARY:Memorial Day
DESCRIPTION:
URL:https://www.impactph.org/event/memorial-day-8/
LOCATION:MI
CATEGORIES:Holiday
ORGANIZER;CN="Executive Director":MAILTO:kcurtis@impactph.org
END:VEVENT
BEGIN:VEVENT
DTSTART;TZID=America/Detroit:20250522T090000
DTEND;TZID=America/Detroit:20250522T120000
DTSTAMP:20260423T191734
CREATED:20241004T134952Z
LAST-MODIFIED:20241004T134952Z
UID:17158-1747904400-1747915200@www.impactph.org
SUMMARY:Management Meeting
DESCRIPTION:
URL:https://www.impactph.org/event/management-meeting-181/
LOCATION:IMPACT Administration\, 1001 Military Street\, Port Huron\, MI\, 48060\, United States
CATEGORIES:Management Meetings
ORGANIZER;CN="Executive Director":MAILTO:kcurtis@impactph.org
END:VEVENT
BEGIN:VEVENT
DTSTART;TZID=America/Detroit:20250520T150000
DTEND;TZID=America/Detroit:20250520T163000
DTSTAMP:20260423T191734
CREATED:20241004T134335Z
LAST-MODIFIED:20241004T134335Z
UID:17140-1747753200-1747758600@www.impactph.org
SUMMARY:Health & Safety Meeting
DESCRIPTION:
URL:https://www.impactph.org/event/health-safety-meeting-53/
LOCATION:IMPACT Administration\, 1001 Military Street\, Port Huron\, MI\, 48060\, United States
CATEGORIES:Health & Safety Meetings
ORGANIZER;CN="Executive Director":MAILTO:kcurtis@impactph.org
END:VEVENT
BEGIN:VEVENT
DTSTART;TZID=America/Detroit:20250520T100000
DTEND;TZID=America/Detroit:20250520T123000
DTSTAMP:20260423T191734
CREATED:20241004T135331Z
LAST-MODIFIED:20241004T135331Z
UID:17182-1747735200-1747744200@www.impactph.org
SUMMARY:Supervisor Meeting
DESCRIPTION:
URL:https://www.impactph.org/event/supervisor-meeting-78/
LOCATION:IMPACT Administration\, 1001 Military Street\, Port Huron\, MI\, 48060\, United States
CATEGORIES:Supervisor Meetings
ORGANIZER;CN="Executive Director":MAILTO:kcurtis@impactph.org
END:VEVENT
BEGIN:VEVENT
DTSTART;TZID=America/Detroit:20250519T170000
DTEND;TZID=America/Detroit:20250519T190000
DTSTAMP:20260423T191734
CREATED:20241004T134306Z
LAST-MODIFIED:20241004T134306Z
UID:17133-1747674000-1747681200@www.impactph.org
SUMMARY:Executive Board Meeting
DESCRIPTION:
URL:https://www.impactph.org/event/executive-board-meeting-69/
LOCATION:IMPACT Administration\, 1001 Military Street\, Port Huron\, MI\, 48060\, United States
CATEGORIES:Executive Board Meetings
ORGANIZER;CN="Executive Director":MAILTO:kcurtis@impactph.org
END:VEVENT
BEGIN:VEVENT
DTSTART;TZID=America/Detroit:20250508T090000
DTEND;TZID=America/Detroit:20250508T120000
DTSTAMP:20260423T191734
CREATED:20241004T134952Z
LAST-MODIFIED:20241004T134952Z
UID:17157-1746694800-1746705600@www.impactph.org
SUMMARY:Management Meeting
DESCRIPTION:
URL:https://www.impactph.org/event/management-meeting-180/
LOCATION:IMPACT Administration\, 1001 Military Street\, Port Huron\, MI\, 48060\, United States
CATEGORIES:Management Meetings
ORGANIZER;CN="Executive Director":MAILTO:kcurtis@impactph.org
END:VEVENT
END:VCALENDAR