BEGIN:VCALENDAR
VERSION:2.0
PRODID:-//I.M.P.A.C.T. - ECPv6.15.20//NONSGML v1.0//EN
CALSCALE:GREGORIAN
METHOD:PUBLISH
X-WR-CALNAME:I.M.P.A.C.T.
X-ORIGINAL-URL:https://www.impactph.org
X-WR-CALDESC:Events for I.M.P.A.C.T.
REFRESH-INTERVAL;VALUE=DURATION:PT1H
X-Robots-Tag:noindex
X-PUBLISHED-TTL:PT1H
BEGIN:VTIMEZONE
TZID:America/Detroit
BEGIN:DAYLIGHT
TZOFFSETFROM:-0500
TZOFFSETTO:-0400
TZNAME:EDT
DTSTART:20190310T070000
END:DAYLIGHT
BEGIN:STANDARD
TZOFFSETFROM:-0400
TZOFFSETTO:-0500
TZNAME:EST
DTSTART:20191103T060000
END:STANDARD
BEGIN:DAYLIGHT
TZOFFSETFROM:-0500
TZOFFSETTO:-0400
TZNAME:EDT
DTSTART:20200308T070000
END:DAYLIGHT
BEGIN:STANDARD
TZOFFSETFROM:-0400
TZOFFSETTO:-0500
TZNAME:EST
DTSTART:20201101T060000
END:STANDARD
BEGIN:DAYLIGHT
TZOFFSETFROM:-0500
TZOFFSETTO:-0400
TZNAME:EDT
DTSTART:20210314T070000
END:DAYLIGHT
BEGIN:STANDARD
TZOFFSETFROM:-0400
TZOFFSETTO:-0500
TZNAME:EST
DTSTART:20211107T060000
END:STANDARD
BEGIN:DAYLIGHT
TZOFFSETFROM:-0500
TZOFFSETTO:-0400
TZNAME:EDT
DTSTART:20220313T070000
END:DAYLIGHT
BEGIN:STANDARD
TZOFFSETFROM:-0400
TZOFFSETTO:-0500
TZNAME:EST
DTSTART:20221106T060000
END:STANDARD
END:VTIMEZONE
BEGIN:VEVENT
DTSTART;TZID=America/Detroit:20210111T170000
DTEND;TZID=America/Detroit:20210111T190000
DTSTAMP:20260425T115533
CREATED:20201110T162004Z
LAST-MODIFIED:20201110T170941Z
UID:3178-1610384400-1610391600@www.impactph.org
SUMMARY:Executive Board Meeting
DESCRIPTION:
URL:https://www.impactph.org/event/executive-board-meeting-3/
LOCATION:IMPACT Administration\, 1001 Military Street\, Port Huron\, MI\, 48060\, United States
CATEGORIES:Executive Board Meetings
ORGANIZER;CN="Executive Director":MAILTO:kcurtis@impactph.org
END:VEVENT
BEGIN:VEVENT
DTSTART;TZID=America/Detroit:20210108T130000
DTEND;TZID=America/Detroit:20210108T160000
DTSTAMP:20260425T115533
CREATED:20201110T162045Z
LAST-MODIFIED:20201110T172440Z
UID:3236-1610110800-1610121600@www.impactph.org
SUMMARY:Management Meeting
DESCRIPTION:
URL:https://www.impactph.org/event/management-meeting-8/
LOCATION:IMPACT Administration\, 1001 Military Street\, Port Huron\, MI\, 48060\, United States
CATEGORIES:Management Meetings
ORGANIZER;CN="Executive Director":MAILTO:kcurtis@impactph.org
END:VEVENT
BEGIN:VEVENT
DTSTART;VALUE=DATE:20201225
DTEND;VALUE=DATE:20201226
DTSTAMP:20260425T115533
CREATED:20201110T162022Z
LAST-MODIFIED:20201110T170941Z
UID:3202-1608854400-1608940799@www.impactph.org
SUMMARY:Christmas
DESCRIPTION:
URL:https://www.impactph.org/event/christmas/
LOCATION:MI
CATEGORIES:Holiday
ORGANIZER;CN="Executive Director":MAILTO:kcurtis@impactph.org
END:VEVENT
BEGIN:VEVENT
DTSTART;TZID=America/Detroit:20201211T130000
DTEND;TZID=America/Detroit:20201211T160000
DTSTAMP:20260425T115533
CREATED:20201110T172109Z
LAST-MODIFIED:20201110T172437Z
UID:3320-1607691600-1607702400@www.impactph.org
SUMMARY:Management Meeting
DESCRIPTION:
URL:https://www.impactph.org/event/management-meeting-28/
LOCATION:IMPACT Administration\, 1001 Military Street\, Port Huron\, MI\, 48060\, United States
CATEGORIES:Management Meetings
ORGANIZER;CN="Executive Director":MAILTO:kcurtis@impactph.org
END:VEVENT
BEGIN:VEVENT
DTSTART;VALUE=DATE:20201205
DTEND;VALUE=DATE:20201206
DTSTAMP:20260425T115533
CREATED:20201110T162023Z
LAST-MODIFIED:20201110T170942Z
UID:3203-1607126400-1607212799@www.impactph.org
SUMMARY:Operation Good Cheer
DESCRIPTION:
URL:https://www.impactph.org/event/operation-good-cheer/
LOCATION:St. Clair County International Airport\, 177 Ash Drive\, Kimball\, MI\, 48074\, United States
CATEGORIES:Agency / Community Events
ORGANIZER;CN="Aaron Foote":MAILTO:afoote@impactph.org
END:VEVENT
BEGIN:VEVENT
DTSTART;TZID=America/Detroit:20201127T130000
DTEND;TZID=America/Detroit:20201127T160000
DTSTAMP:20260425T115533
CREATED:20201110T172109Z
LAST-MODIFIED:20201110T172437Z
UID:3319-1606482000-1606492800@www.impactph.org
SUMMARY:Management Meeting
DESCRIPTION:
URL:https://www.impactph.org/event/management-meeting-27/
LOCATION:IMPACT Administration\, 1001 Military Street\, Port Huron\, MI\, 48060\, United States
CATEGORIES:Management Meetings
ORGANIZER;CN="Executive Director":MAILTO:kcurtis@impactph.org
END:VEVENT
BEGIN:VEVENT
DTSTART;VALUE=DATE:20201126
DTEND;VALUE=DATE:20201127
DTSTAMP:20260425T115533
CREATED:20201110T162022Z
LAST-MODIFIED:20201110T170942Z
UID:3201-1606348800-1606435199@www.impactph.org
SUMMARY:Thanksgiving
DESCRIPTION:
URL:https://www.impactph.org/event/thanksgiving/
LOCATION:MI
CATEGORIES:Holiday
ORGANIZER;CN="Executive Director":MAILTO:kcurtis@impactph.org
END:VEVENT
BEGIN:VEVENT
DTSTART;TZID=America/Detroit:20201120T130000
DTEND;TZID=America/Detroit:20201120T153000
DTSTAMP:20260425T115533
CREATED:20201110T162013Z
LAST-MODIFIED:20201110T170942Z
UID:3186-1605877200-1605886200@www.impactph.org
SUMMARY:Supervisor Meeting
DESCRIPTION:
URL:https://www.impactph.org/event/supervisor-meeting-2/
LOCATION:IMPACT Administration\, 1001 Military Street\, Port Huron\, MI\, 48060\, United States
CATEGORIES:Supervisor Meetings
ORGANIZER;CN="Executive Director":MAILTO:kcurtis@impactph.org
END:VEVENT
BEGIN:VEVENT
DTSTART;TZID=America/Detroit:20201117T150000
DTEND;TZID=America/Detroit:20201117T163000
DTSTAMP:20260425T115533
CREATED:20201110T162032Z
LAST-MODIFIED:20201110T170942Z
UID:3215-1605625200-1605630600@www.impactph.org
SUMMARY:Health & Safety Meeting
DESCRIPTION:
URL:https://www.impactph.org/event/health-safety-meeting/
LOCATION:IMPACT Administration\, 1001 Military Street\, Port Huron\, MI\, 48060\, United States
CATEGORIES:Health & Safety Meetings
ORGANIZER;CN="Executive Director":MAILTO:kcurtis@impactph.org
END:VEVENT
BEGIN:VEVENT
DTSTART;TZID=America/Detroit:20201116T170000
DTEND;TZID=America/Detroit:20201116T190000
DTSTAMP:20260425T115533
CREATED:20201110T162004Z
LAST-MODIFIED:20201110T170942Z
UID:3177-1605546000-1605553200@www.impactph.org
SUMMARY:Executive Board Meeting
DESCRIPTION:
URL:https://www.impactph.org/event/executive-board-meeting-2/
LOCATION:IMPACT Administration\, 1001 Military Street\, Port Huron\, MI\, 48060\, United States
CATEGORIES:Executive Board Meetings
ORGANIZER;CN="Executive Director":MAILTO:kcurtis@impactph.org
END:VEVENT
BEGIN:VEVENT
DTSTART;TZID=America/Detroit:20201113T130000
DTEND;TZID=America/Detroit:20201113T160000
DTSTAMP:20260425T115533
CREATED:20201110T172108Z
LAST-MODIFIED:20201110T172437Z
UID:3318-1605272400-1605283200@www.impactph.org
SUMMARY:Management Meeting
DESCRIPTION:
URL:https://www.impactph.org/event/management-meeting-26/
LOCATION:IMPACT Administration\, 1001 Military Street\, Port Huron\, MI\, 48060\, United States
CATEGORIES:Management Meetings
ORGANIZER;CN="Executive Director":MAILTO:kcurtis@impactph.org
END:VEVENT
BEGIN:VEVENT
DTSTART;VALUE=DATE:20201031
DTEND;VALUE=DATE:20201101
DTSTAMP:20260425T115533
CREATED:20201110T162020Z
LAST-MODIFIED:20201110T170942Z
UID:3200-1604102400-1604188799@www.impactph.org
SUMMARY:Halloween
DESCRIPTION:
URL:https://www.impactph.org/event/halloween-2/
LOCATION:MI
CATEGORIES:Holiday
ORGANIZER;CN="Executive Director":MAILTO:kcurtis@impactph.org
END:VEVENT
BEGIN:VEVENT
DTSTART;TZID=America/Detroit:20201023T130000
DTEND;TZID=America/Detroit:20201023T160000
DTSTAMP:20260425T115533
CREATED:20201110T162042Z
LAST-MODIFIED:20201110T172437Z
UID:3232-1603458000-1603468800@www.impactph.org
SUMMARY:Management Meeting
DESCRIPTION:
URL:https://www.impactph.org/event/management-meeting-7/
LOCATION:IMPACT Administration\, 1001 Military Street\, Port Huron\, MI\, 48060\, United States
CATEGORIES:Management Meetings
ORGANIZER;CN="Executive Director":MAILTO:kcurtis@impactph.org
END:VEVENT
BEGIN:VEVENT
DTSTART;TZID=America/Detroit:20201019T170000
DTEND;TZID=America/Detroit:20201019T190000
DTSTAMP:20260425T115533
CREATED:20201110T162003Z
LAST-MODIFIED:20201110T170942Z
UID:3176-1603126800-1603134000@www.impactph.org
SUMMARY:Executive Board Meeting
DESCRIPTION:
URL:https://www.impactph.org/event/executive-board-meeting/
LOCATION:IMPACT Administration\, 1001 Military Street\, Port Huron\, MI\, 48060\, United States
CATEGORIES:Executive Board Meetings
ORGANIZER;CN="Executive Director":MAILTO:kcurtis@impactph.org
END:VEVENT
BEGIN:VEVENT
DTSTART;TZID=America/Detroit:20201016T130000
DTEND;TZID=America/Detroit:20201016T153000
DTSTAMP:20260425T115533
CREATED:20201110T162011Z
LAST-MODIFIED:20201110T170952Z
UID:3185-1602853200-1602862200@www.impactph.org
SUMMARY:Supervisor Meeting
DESCRIPTION:
URL:https://www.impactph.org/event/supervisor-meeting/
LOCATION:IMPACT Administration\, 1001 Military Street\, Port Huron\, MI\, 48060\, United States
CATEGORIES:Supervisor Meetings
ORGANIZER;CN="Executive Director":MAILTO:kcurtis@impactph.org
END:VEVENT
BEGIN:VEVENT
DTSTART;TZID=America/Detroit:20201014T130000
DTEND;TZID=America/Detroit:20201014T150000
DTSTAMP:20260425T115533
CREATED:20201110T162032Z
LAST-MODIFIED:20201110T170952Z
UID:3216-1602680400-1602687600@www.impactph.org
SUMMARY:Quality Improvement Meeting
DESCRIPTION:
URL:https://www.impactph.org/event/quality-improvement-meeting-20/
LOCATION:IMPACT Administration\, 1001 Military Street\, Port Huron\, MI\, 48060\, United States
CATEGORIES:Quality Improvement Meetings
ORGANIZER;CN="Executive Director":MAILTO:kcurtis@impactph.org
END:VEVENT
BEGIN:VEVENT
DTSTART;TZID=America/Detroit:20201009T130000
DTEND;TZID=America/Detroit:20201009T160000
DTSTAMP:20260425T115533
CREATED:20201110T162042Z
LAST-MODIFIED:20201110T172437Z
UID:3231-1602248400-1602259200@www.impactph.org
SUMMARY:Management Meeting
DESCRIPTION:
URL:https://www.impactph.org/event/management-meeting-6/
LOCATION:IMPACT Administration\, 1001 Military Street\, Port Huron\, MI\, 48060\, United States
CATEGORIES:Management Meetings
ORGANIZER;CN="Executive Director":MAILTO:kcurtis@impactph.org
END:VEVENT
END:VCALENDAR