BEGIN:VCALENDAR
VERSION:2.0
PRODID:-//I.M.P.A.C.T. - ECPv6.15.20//NONSGML v1.0//EN
CALSCALE:GREGORIAN
METHOD:PUBLISH
X-WR-CALNAME:I.M.P.A.C.T.
X-ORIGINAL-URL:https://www.impactph.org
X-WR-CALDESC:Events for I.M.P.A.C.T.
REFRESH-INTERVAL;VALUE=DURATION:PT1H
X-Robots-Tag:noindex
X-PUBLISHED-TTL:PT1H
BEGIN:VTIMEZONE
TZID:America/Detroit
BEGIN:DAYLIGHT
TZOFFSETFROM:-0500
TZOFFSETTO:-0400
TZNAME:EDT
DTSTART:20200308T070000
END:DAYLIGHT
BEGIN:STANDARD
TZOFFSETFROM:-0400
TZOFFSETTO:-0500
TZNAME:EST
DTSTART:20201101T060000
END:STANDARD
BEGIN:DAYLIGHT
TZOFFSETFROM:-0500
TZOFFSETTO:-0400
TZNAME:EDT
DTSTART:20210314T070000
END:DAYLIGHT
BEGIN:STANDARD
TZOFFSETFROM:-0400
TZOFFSETTO:-0500
TZNAME:EST
DTSTART:20211107T060000
END:STANDARD
BEGIN:DAYLIGHT
TZOFFSETFROM:-0500
TZOFFSETTO:-0400
TZNAME:EDT
DTSTART:20220313T070000
END:DAYLIGHT
BEGIN:STANDARD
TZOFFSETFROM:-0400
TZOFFSETTO:-0500
TZNAME:EST
DTSTART:20221106T060000
END:STANDARD
END:VTIMEZONE
BEGIN:VEVENT
DTSTART;TZID=America/Detroit:20210924T130000
DTEND;TZID=America/Detroit:20210924T160000
DTSTAMP:20260425T083250
CREATED:20201110T172125Z
LAST-MODIFIED:20201110T172446Z
UID:3337-1632488400-1632499200@www.impactph.org
SUMMARY:Management Meeting
DESCRIPTION:
URL:https://www.impactph.org/event/management-meeting-120/
LOCATION:IMPACT Administration\, 1001 Military Street\, Port Huron\, MI\, 48060\, United States
CATEGORIES:Management Meetings
ORGANIZER;CN="Executive Director":MAILTO:kcurtis@impactph.org
END:VEVENT
BEGIN:VEVENT
DTSTART;TZID=America/Detroit:20210921T150000
DTEND;TZID=America/Detroit:20210921T163000
DTSTAMP:20260425T083250
CREATED:20201110T162037Z
LAST-MODIFIED:20201110T170913Z
UID:3225-1632236400-1632241800@www.impactph.org
SUMMARY:Health & Safety Meeting
DESCRIPTION:
URL:https://www.impactph.org/event/health-safety-meeting-6/
LOCATION:IMPACT Administration\, 1001 Military Street\, Port Huron\, MI\, 48060\, United States
CATEGORIES:Health & Safety Meetings
ORGANIZER;CN="Executive Director":MAILTO:kcurtis@impactph.org
END:VEVENT
BEGIN:VEVENT
DTSTART;TZID=America/Detroit:20210920T170000
DTEND;TZID=America/Detroit:20210920T190000
DTSTAMP:20260425T083250
CREATED:20201110T162010Z
LAST-MODIFIED:20201110T170913Z
UID:3184-1632157200-1632164400@www.impactph.org
SUMMARY:Executive Board Meeting
DESCRIPTION:
URL:https://www.impactph.org/event/executive-board-meeting-9/
LOCATION:IMPACT Administration\, 1001 Military Street\, Port Huron\, MI\, 48060\, United States
CATEGORIES:Executive Board Meetings
ORGANIZER;CN="Executive Director":MAILTO:kcurtis@impactph.org
END:VEVENT
BEGIN:VEVENT
DTSTART;TZID=America/Detroit:20210917T130000
DTEND;TZID=America/Detroit:20210917T153000
DTSTAMP:20260425T083250
CREATED:20201110T162019Z
LAST-MODIFIED:20201110T170913Z
UID:3199-1631883600-1631892600@www.impactph.org
SUMMARY:Supervisor Meeting
DESCRIPTION:
URL:https://www.impactph.org/event/supervisor-meeting-10/
LOCATION:IMPACT Administration\, 1001 Military Street\, Port Huron\, MI\, 48060\, United States
CATEGORIES:Supervisor Meetings
ORGANIZER;CN="Executive Director":MAILTO:kcurtis@impactph.org
END:VEVENT
BEGIN:VEVENT
DTSTART;VALUE=DATE:20210913
DTEND;VALUE=DATE:20210918
DTSTAMP:20260425T083250
CREATED:20201110T162028Z
LAST-MODIFIED:20201110T170913Z
UID:3209-1631491200-1631923199@www.impactph.org
SUMMARY:National Direct Support Professional Recognition Week
DESCRIPTION:
URL:https://www.impactph.org/event/national-direct-support-professional-recognition-week-3/
LOCATION:MI
CATEGORIES:Agency / Community Events
ORGANIZER;CN="Executive Director":MAILTO:kcurtis@impactph.org
END:VEVENT
BEGIN:VEVENT
DTSTART;TZID=America/Detroit:20210910T130000
DTEND;TZID=America/Detroit:20210910T160000
DTSTAMP:20260425T083250
CREATED:20201110T172125Z
LAST-MODIFIED:20201110T172446Z
UID:3336-1631278800-1631289600@www.impactph.org
SUMMARY:Management Meeting
DESCRIPTION:
URL:https://www.impactph.org/event/management-meeting-119/
LOCATION:IMPACT Administration\, 1001 Military Street\, Port Huron\, MI\, 48060\, United States
CATEGORIES:Management Meetings
ORGANIZER;CN="Executive Director":MAILTO:kcurtis@impactph.org
END:VEVENT
BEGIN:VEVENT
DTSTART;VALUE=DATE:20210906
DTEND;VALUE=DATE:20210907
DTSTAMP:20260425T083250
CREATED:20201110T162028Z
LAST-MODIFIED:20201110T170913Z
UID:3210-1630886400-1630972799@www.impactph.org
SUMMARY:Labor Day
DESCRIPTION:
URL:https://www.impactph.org/event/labor-day-2/
LOCATION:MI
CATEGORIES:Holiday
ORGANIZER;CN="Executive Director":MAILTO:kcurtis@impactph.org
END:VEVENT
BEGIN:VEVENT
DTSTART;TZID=America/Detroit:20210827T130000
DTEND;TZID=America/Detroit:20210827T160000
DTSTAMP:20260425T083250
CREATED:20201110T172124Z
LAST-MODIFIED:20201110T172446Z
UID:3335-1630069200-1630080000@www.impactph.org
SUMMARY:Management Meeting
DESCRIPTION:
URL:https://www.impactph.org/event/management-meeting-118/
LOCATION:IMPACT Administration\, 1001 Military Street\, Port Huron\, MI\, 48060\, United States
CATEGORIES:Management Meetings
ORGANIZER;CN="Executive Director":MAILTO:kcurtis@impactph.org
END:VEVENT
BEGIN:VEVENT
DTSTART;TZID=America/Detroit:20210820T130000
DTEND;TZID=America/Detroit:20210820T153000
DTSTAMP:20260425T083250
CREATED:20201110T162019Z
LAST-MODIFIED:20201110T170914Z
UID:3198-1629464400-1629473400@www.impactph.org
SUMMARY:Supervisor Meeting
DESCRIPTION:
URL:https://www.impactph.org/event/supervisor-meeting-9/
LOCATION:IMPACT Administration\, 1001 Military Street\, Port Huron\, MI\, 48060\, United States
CATEGORIES:Supervisor Meetings
ORGANIZER;CN="Executive Director":MAILTO:kcurtis@impactph.org
END:VEVENT
BEGIN:VEVENT
DTSTART;TZID=America/Detroit:20210813T130000
DTEND;TZID=America/Detroit:20210813T160000
DTSTAMP:20260425T083250
CREATED:20201110T172122Z
LAST-MODIFIED:20201110T172444Z
UID:3334-1628859600-1628870400@www.impactph.org
SUMMARY:Management Meeting
DESCRIPTION:
URL:https://www.impactph.org/event/management-meeting-117/
LOCATION:IMPACT Administration\, 1001 Military Street\, Port Huron\, MI\, 48060\, United States
CATEGORIES:Management Meetings
ORGANIZER;CN="Executive Director":MAILTO:kcurtis@impactph.org
END:VEVENT
BEGIN:VEVENT
DTSTART;VALUE=DATE:20210801
DTEND;VALUE=DATE:20210901
DTSTAMP:20260425T083250
CREATED:20201110T162027Z
LAST-MODIFIED:20201110T170914Z
UID:3208-1627776000-1630454399@www.impactph.org
SUMMARY:United Way Campaign
DESCRIPTION:
URL:https://www.impactph.org/event/united-way-campaign/
LOCATION:MI
CATEGORIES:Agency / Community Events
ORGANIZER;CN="Kris Curtis":MAILTO:kcurtis@impactph.org
END:VEVENT
BEGIN:VEVENT
DTSTART;TZID=America/Detroit:20210723T130000
DTEND;TZID=America/Detroit:20210723T160000
DTSTAMP:20260425T083250
CREATED:20201110T172122Z
LAST-MODIFIED:20201110T172444Z
UID:3333-1627045200-1627056000@www.impactph.org
SUMMARY:Management Meeting
DESCRIPTION:
URL:https://www.impactph.org/event/management-meeting-116/
LOCATION:IMPACT Administration\, 1001 Military Street\, Port Huron\, MI\, 48060\, United States
CATEGORIES:Management Meetings
ORGANIZER;CN="Executive Director":MAILTO:kcurtis@impactph.org
END:VEVENT
BEGIN:VEVENT
DTSTART;TZID=America/Detroit:20210720T150000
DTEND;TZID=America/Detroit:20210720T163000
DTSTAMP:20260425T083250
CREATED:20201110T162037Z
LAST-MODIFIED:20201110T170914Z
UID:3224-1626793200-1626798600@www.impactph.org
SUMMARY:Health & Safety Meeting
DESCRIPTION:
URL:https://www.impactph.org/event/health-safety-meeting-5/
LOCATION:IMPACT Administration\, 1001 Military Street\, Port Huron\, MI\, 48060\, United States
CATEGORIES:Health & Safety Meetings
ORGANIZER;CN="Executive Director":MAILTO:kcurtis@impactph.org
END:VEVENT
BEGIN:VEVENT
DTSTART;TZID=America/Detroit:20210716T130000
DTEND;TZID=America/Detroit:20210716T153000
DTSTAMP:20260425T083250
CREATED:20201110T162018Z
LAST-MODIFIED:20201110T170914Z
UID:3197-1626440400-1626449400@www.impactph.org
SUMMARY:Supervisor Meeting
DESCRIPTION:
URL:https://www.impactph.org/event/supervisor-meeting-8/
LOCATION:IMPACT Administration\, 1001 Military Street\, Port Huron\, MI\, 48060\, United States
CATEGORIES:Supervisor Meetings
ORGANIZER;CN="Executive Director":MAILTO:kcurtis@impactph.org
END:VEVENT
BEGIN:VEVENT
DTSTART;TZID=America/Detroit:20210714T130000
DTEND;TZID=America/Detroit:20210714T150000
DTSTAMP:20260425T083250
CREATED:20201110T162032Z
LAST-MODIFIED:20201110T170914Z
UID:3214-1626267600-1626274800@www.impactph.org
SUMMARY:Quality Improvement Meeting
DESCRIPTION:
URL:https://www.impactph.org/event/quality-improvement-meeting-4/
LOCATION:IMPACT Administration\, 1001 Military Street\, Port Huron\, MI\, 48060\, United States
CATEGORIES:Quality Improvement Meetings
ORGANIZER;CN="Executive Director":MAILTO:kcurtis@impactph.org
END:VEVENT
BEGIN:VEVENT
DTSTART;TZID=America/Detroit:20210709T130000
DTEND;TZID=America/Detroit:20210709T160000
DTSTAMP:20260425T083250
CREATED:20201110T172121Z
LAST-MODIFIED:20201110T172444Z
UID:3332-1625835600-1625846400@www.impactph.org
SUMMARY:Management Meeting
DESCRIPTION:
URL:https://www.impactph.org/event/management-meeting-40/
LOCATION:IMPACT Administration\, 1001 Military Street\, Port Huron\, MI\, 48060\, United States
CATEGORIES:Management Meetings
ORGANIZER;CN="Executive Director":MAILTO:kcurtis@impactph.org
END:VEVENT
BEGIN:VEVENT
DTSTART;VALUE=DATE:20210704
DTEND;VALUE=DATE:20210705
DTSTAMP:20260425T083250
CREATED:20201110T162027Z
LAST-MODIFIED:20201110T170914Z
UID:3207-1625356800-1625443199@www.impactph.org
SUMMARY:Independence Day
DESCRIPTION:
URL:https://www.impactph.org/event/independence-day/
LOCATION:MI
CATEGORIES:Holiday
ORGANIZER;CN="Executive Director":MAILTO:kcurtis@impactph.org
END:VEVENT
BEGIN:VEVENT
DTSTART;TZID=America/Detroit:20210625T130000
DTEND;TZID=America/Detroit:20210625T160000
DTSTAMP:20260425T083250
CREATED:20201110T172121Z
LAST-MODIFIED:20201110T172444Z
UID:3331-1624626000-1624636800@www.impactph.org
SUMMARY:Management Meeting
DESCRIPTION:
URL:https://www.impactph.org/event/management-meeting-39/
LOCATION:IMPACT Administration\, 1001 Military Street\, Port Huron\, MI\, 48060\, United States
CATEGORIES:Management Meetings
ORGANIZER;CN="Executive Director":MAILTO:kcurtis@impactph.org
END:VEVENT
BEGIN:VEVENT
DTSTART;TZID=America/Detroit:20210621T170000
DTEND;TZID=America/Detroit:20210621T190000
DTSTAMP:20260425T083250
CREATED:20201110T162010Z
LAST-MODIFIED:20201110T170914Z
UID:3183-1624294800-1624302000@www.impactph.org
SUMMARY:Executive Board Meeting
DESCRIPTION:
URL:https://www.impactph.org/event/executive-board-meeting-8/
LOCATION:IMPACT Administration\, 1001 Military Street\, Port Huron\, MI\, 48060\, United States
CATEGORIES:Executive Board Meetings
ORGANIZER;CN="Executive Director":MAILTO:kcurtis@impactph.org
END:VEVENT
BEGIN:VEVENT
DTSTART;VALUE=DATE:20210618
DTEND;VALUE=DATE:20210619
DTSTAMP:20260425T083250
CREATED:20201110T162027Z
LAST-MODIFIED:20201110T170914Z
UID:3206-1623974400-1624060799@www.impactph.org
SUMMARY:Picnic & Staff Recognition
DESCRIPTION:
URL:https://www.impactph.org/event/picnic-staff-recognition-3/
LOCATION:Goodells County Park\, 8264 County Park Dr.\, Goodells\, MI\, 48027\, United States
CATEGORIES:Agency / Community Events
ORGANIZER;CN="Denise Ellery":MAILTO:dellery@impactph.org
END:VEVENT
BEGIN:VEVENT
DTSTART;TZID=America/Detroit:20210611T130000
DTEND;TZID=America/Detroit:20210611T160000
DTSTAMP:20260425T083250
CREATED:20201110T172120Z
LAST-MODIFIED:20201110T172444Z
UID:3330-1623416400-1623427200@www.impactph.org
SUMMARY:Management Meeting
DESCRIPTION:
URL:https://www.impactph.org/event/management-meeting-38/
LOCATION:IMPACT Administration\, 1001 Military Street\, Port Huron\, MI\, 48060\, United States
CATEGORIES:Management Meetings
ORGANIZER;CN="Executive Director":MAILTO:kcurtis@impactph.org
END:VEVENT
BEGIN:VEVENT
DTSTART;VALUE=DATE:20210531
DTEND;VALUE=DATE:20210601
DTSTAMP:20260425T083250
CREATED:20201110T162024Z
LAST-MODIFIED:20201110T170931Z
UID:3205-1622419200-1622505599@www.impactph.org
SUMMARY:Memorial Day
DESCRIPTION:
URL:https://www.impactph.org/event/memorial-day/
LOCATION:MI
CATEGORIES:Holiday
ORGANIZER;CN="Executive Director":MAILTO:kcurtis@impactph.org
END:VEVENT
BEGIN:VEVENT
DTSTART;TZID=America/Detroit:20210528T130000
DTEND;TZID=America/Detroit:20210528T160000
DTSTAMP:20260425T083250
CREATED:20201110T172118Z
LAST-MODIFIED:20201110T172442Z
UID:3329-1622206800-1622217600@www.impactph.org
SUMMARY:Management Meeting
DESCRIPTION:
URL:https://www.impactph.org/event/management-meeting-37/
LOCATION:IMPACT Administration\, 1001 Military Street\, Port Huron\, MI\, 48060\, United States
CATEGORIES:Management Meetings
ORGANIZER;CN="Executive Director":MAILTO:kcurtis@impactph.org
END:VEVENT
BEGIN:VEVENT
DTSTART;TZID=America/Detroit:20210521T130000
DTEND;TZID=America/Detroit:20210521T153000
DTSTAMP:20260425T083250
CREATED:20201110T162018Z
LAST-MODIFIED:20201110T170931Z
UID:3196-1621602000-1621611000@www.impactph.org
SUMMARY:Supervisor Meeting
DESCRIPTION:
URL:https://www.impactph.org/event/supervisor-meeting-7/
LOCATION:IMPACT Administration\, 1001 Military Street\, Port Huron\, MI\, 48060\, United States
CATEGORIES:Supervisor Meetings
ORGANIZER;CN="Executive Director":MAILTO:kcurtis@impactph.org
END:VEVENT
BEGIN:VEVENT
DTSTART;TZID=America/Detroit:20210518T150000
DTEND;TZID=America/Detroit:20210518T163000
DTSTAMP:20260425T083250
CREATED:20201110T162036Z
LAST-MODIFIED:20201110T170931Z
UID:3223-1621350000-1621355400@www.impactph.org
SUMMARY:Health & Safety Meeting
DESCRIPTION:
URL:https://www.impactph.org/event/health-safety-meeting-4/
LOCATION:IMPACT Administration\, 1001 Military Street\, Port Huron\, MI\, 48060\, United States
CATEGORIES:Health & Safety Meetings
ORGANIZER;CN="Executive Director":MAILTO:kcurtis@impactph.org
END:VEVENT
BEGIN:VEVENT
DTSTART;TZID=America/Detroit:20210517T170000
DTEND;TZID=America/Detroit:20210517T190000
DTSTAMP:20260425T083250
CREATED:20201110T162009Z
LAST-MODIFIED:20201110T170931Z
UID:3182-1621270800-1621278000@www.impactph.org
SUMMARY:Executive Board Meeting
DESCRIPTION:
URL:https://www.impactph.org/event/executive-board-meeting-7/
LOCATION:IMPACT Administration\, 1001 Military Street\, Port Huron\, MI\, 48060\, United States
CATEGORIES:Executive Board Meetings
ORGANIZER;CN="Executive Director":MAILTO:kcurtis@impactph.org
END:VEVENT
BEGIN:VEVENT
DTSTART;TZID=America/Detroit:20210514T130000
DTEND;TZID=America/Detroit:20210514T160000
DTSTAMP:20260425T083250
CREATED:20201110T172117Z
LAST-MODIFIED:20201110T172442Z
UID:3328-1620997200-1621008000@www.impactph.org
SUMMARY:Management Meeting
DESCRIPTION:
URL:https://www.impactph.org/event/management-meeting-36/
LOCATION:IMPACT Administration\, 1001 Military Street\, Port Huron\, MI\, 48060\, United States
CATEGORIES:Management Meetings
ORGANIZER;CN="Executive Director":MAILTO:kcurtis@impactph.org
END:VEVENT
BEGIN:VEVENT
DTSTART;TZID=America/Detroit:20210423T130000
DTEND;TZID=America/Detroit:20210423T160000
DTSTAMP:20260425T083250
CREATED:20201110T172117Z
LAST-MODIFIED:20201110T172442Z
UID:3327-1619182800-1619193600@www.impactph.org
SUMMARY:Management Meeting
DESCRIPTION:
URL:https://www.impactph.org/event/management-meeting-35/
LOCATION:IMPACT Administration\, 1001 Military Street\, Port Huron\, MI\, 48060\, United States
CATEGORIES:Management Meetings
ORGANIZER;CN="Executive Director":MAILTO:kcurtis@impactph.org
END:VEVENT
BEGIN:VEVENT
DTSTART;TZID=America/Detroit:20210419T170000
DTEND;TZID=America/Detroit:20210419T190000
DTSTAMP:20260425T083250
CREATED:20201110T162009Z
LAST-MODIFIED:20201110T170932Z
UID:3181-1618851600-1618858800@www.impactph.org
SUMMARY:Executive Board Meeting
DESCRIPTION:
URL:https://www.impactph.org/event/executive-board-meeting-6/
LOCATION:IMPACT Administration\, 1001 Military Street\, Port Huron\, MI\, 48060\, United States
CATEGORIES:Executive Board Meetings
ORGANIZER;CN="Executive Director":MAILTO:kcurtis@impactph.org
END:VEVENT
BEGIN:VEVENT
DTSTART;TZID=America/Detroit:20210416T130000
DTEND;TZID=America/Detroit:20210416T153000
DTSTAMP:20260425T083250
CREATED:20201110T162014Z
LAST-MODIFIED:20201110T170932Z
UID:3190-1618578000-1618587000@www.impactph.org
SUMMARY:Supervisor Meeting
DESCRIPTION:
URL:https://www.impactph.org/event/supervisor-meeting-6/
LOCATION:IMPACT Administration\, 1001 Military Street\, Port Huron\, MI\, 48060\, United States
CATEGORIES:Supervisor Meetings
ORGANIZER;CN="Executive Director":MAILTO:kcurtis@impactph.org
END:VEVENT
END:VCALENDAR