BEGIN:VCALENDAR
VERSION:2.0
PRODID:-//I.M.P.A.C.T. - ECPv6.15.20//NONSGML v1.0//EN
CALSCALE:GREGORIAN
METHOD:PUBLISH
X-WR-CALNAME:I.M.P.A.C.T.
X-ORIGINAL-URL:https://www.impactph.org
X-WR-CALDESC:Events for I.M.P.A.C.T.
REFRESH-INTERVAL;VALUE=DURATION:PT1H
X-Robots-Tag:noindex
X-PUBLISHED-TTL:PT1H
BEGIN:VTIMEZONE
TZID:America/Detroit
BEGIN:DAYLIGHT
TZOFFSETFROM:-0500
TZOFFSETTO:-0400
TZNAME:EDT
DTSTART:20220313T070000
END:DAYLIGHT
BEGIN:STANDARD
TZOFFSETFROM:-0400
TZOFFSETTO:-0500
TZNAME:EST
DTSTART:20221106T060000
END:STANDARD
BEGIN:DAYLIGHT
TZOFFSETFROM:-0500
TZOFFSETTO:-0400
TZNAME:EDT
DTSTART:20230312T070000
END:DAYLIGHT
BEGIN:STANDARD
TZOFFSETFROM:-0400
TZOFFSETTO:-0500
TZNAME:EST
DTSTART:20231105T060000
END:STANDARD
BEGIN:DAYLIGHT
TZOFFSETFROM:-0500
TZOFFSETTO:-0400
TZNAME:EDT
DTSTART:20240310T070000
END:DAYLIGHT
BEGIN:STANDARD
TZOFFSETFROM:-0400
TZOFFSETTO:-0500
TZNAME:EST
DTSTART:20241103T060000
END:STANDARD
BEGIN:DAYLIGHT
TZOFFSETFROM:-0500
TZOFFSETTO:-0400
TZNAME:EDT
DTSTART:20250309T070000
END:DAYLIGHT
BEGIN:STANDARD
TZOFFSETFROM:-0400
TZOFFSETTO:-0500
TZNAME:EST
DTSTART:20251102T060000
END:STANDARD
END:VTIMEZONE
BEGIN:VEVENT
DTSTART;TZID=America/Detroit:20240425T090000
DTEND;TZID=America/Detroit:20240425T120000
DTSTAMP:20260425T064728
CREATED:20240325T152418Z
LAST-MODIFIED:20240325T152418Z
UID:15297-1714035600-1714046400@www.impactph.org
SUMMARY:Management Meeting
DESCRIPTION:
URL:https://www.impactph.org/event/management-meeting-157/
LOCATION:IMPACT Administration\, 1001 Military Street\, Port Huron\, MI\, 48060\, United States
CATEGORIES:Management Meetings
ORGANIZER;CN="Executive Director":MAILTO:kcurtis@impactph.org
END:VEVENT
BEGIN:VEVENT
DTSTART;TZID=America/Detroit:20240416T100000
DTEND;TZID=America/Detroit:20240416T123000
DTSTAMP:20260425T064728
CREATED:20240325T152514Z
LAST-MODIFIED:20240325T152514Z
UID:15320-1713261600-1713270600@www.impactph.org
SUMMARY:Supervisor Meeting
DESCRIPTION:
URL:https://www.impactph.org/event/supervisor-meeting-66/
LOCATION:IMPACT Administration\, 1001 Military Street\, Port Huron\, MI\, 48060\, United States
CATEGORIES:Supervisor Meetings
ORGANIZER;CN="Executive Director":MAILTO:kcurtis@impactph.org
END:VEVENT
BEGIN:VEVENT
DTSTART;TZID=America/Detroit:20240415T170000
DTEND;TZID=America/Detroit:20240415T190000
DTSTAMP:20260425T064728
CREATED:20240325T152247Z
LAST-MODIFIED:20240325T152247Z
UID:15271-1713200400-1713207600@www.impactph.org
SUMMARY:Executive Board Meeting
DESCRIPTION:
URL:https://www.impactph.org/event/executive-board-meeting-59/
LOCATION:IMPACT Administration\, 1001 Military Street\, Port Huron\, MI\, 48060\, United States
CATEGORIES:Executive Board Meetings
ORGANIZER;CN="Executive Director":MAILTO:kcurtis@impactph.org
END:VEVENT
BEGIN:VEVENT
DTSTART;TZID=America/Detroit:20240411T090000
DTEND;TZID=America/Detroit:20240411T120000
DTSTAMP:20260425T064728
CREATED:20240325T152417Z
LAST-MODIFIED:20240325T152417Z
UID:15296-1712826000-1712836800@www.impactph.org
SUMMARY:Management Meeting
DESCRIPTION:
URL:https://www.impactph.org/event/management-meeting-156/
LOCATION:IMPACT Administration\, 1001 Military Street\, Port Huron\, MI\, 48060\, United States
CATEGORIES:Management Meetings
ORGANIZER;CN="Executive Director":MAILTO:kcurtis@impactph.org
END:VEVENT
BEGIN:VEVENT
DTSTART;TZID=America/Detroit:20240410T130000
DTEND;TZID=America/Detroit:20240410T150000
DTSTAMP:20260425T064728
CREATED:20240325T152452Z
LAST-MODIFIED:20240325T152452Z
UID:15313-1712754000-1712761200@www.impactph.org
SUMMARY:Quality Improvement Meeting
DESCRIPTION:
URL:https://www.impactph.org/event/quality-improvement-meeting-27/
LOCATION:IMPACT Administration\, 1001 Military Street\, Port Huron\, MI\, 48060\, United States
CATEGORIES:Quality Improvement Meetings
ORGANIZER;CN="Executive Director":MAILTO:kcurtis@impactph.org
END:VEVENT
BEGIN:VEVENT
DTSTART;VALUE=DATE:20240331
DTEND;VALUE=DATE:20240401
DTSTAMP:20260425T064728
CREATED:20240325T152244Z
LAST-MODIFIED:20240325T152244Z
UID:15265-1711843200-1711929599@www.impactph.org
SUMMARY:Easter
DESCRIPTION:
URL:https://www.impactph.org/event/easter-7/
LOCATION:MI
CATEGORIES:Holiday
ORGANIZER;CN="Executive Director":MAILTO:kcurtis@impactph.org
END:VEVENT
BEGIN:VEVENT
DTSTART;TZID=America/Detroit:20240328T090000
DTEND;TZID=America/Detroit:20240328T120000
DTSTAMP:20260425T064728
CREATED:20240325T152417Z
LAST-MODIFIED:20240325T152417Z
UID:15295-1711616400-1711627200@www.impactph.org
SUMMARY:Management Meeting
DESCRIPTION:
URL:https://www.impactph.org/event/management-meeting-155/
LOCATION:IMPACT Administration\, 1001 Military Street\, Port Huron\, MI\, 48060\, United States
CATEGORIES:Management Meetings
ORGANIZER;CN="Executive Director":MAILTO:kcurtis@impactph.org
END:VEVENT
BEGIN:VEVENT
DTSTART;TZID=America/Detroit:20240319T150000
DTEND;TZID=America/Detroit:20240319T163000
DTSTAMP:20260425T064728
CREATED:20240325T152303Z
LAST-MODIFIED:20240325T152303Z
UID:15278-1710860400-1710865800@www.impactph.org
SUMMARY:Health & Safety Meeting
DESCRIPTION:
URL:https://www.impactph.org/event/health-safety-meeting-46/
LOCATION:IMPACT Administration\, 1001 Military Street\, Port Huron\, MI\, 48060\, United States
CATEGORIES:Health & Safety Meetings
ORGANIZER;CN="Executive Director":MAILTO:kcurtis@impactph.org
END:VEVENT
BEGIN:VEVENT
DTSTART;TZID=America/Detroit:20240319T100000
DTEND;TZID=America/Detroit:20240319T123000
DTSTAMP:20260425T064728
CREATED:20240325T152513Z
LAST-MODIFIED:20240325T152513Z
UID:15319-1710842400-1710851400@www.impactph.org
SUMMARY:Supervisor Meeting
DESCRIPTION:
URL:https://www.impactph.org/event/supervisor-meeting-65/
LOCATION:IMPACT Administration\, 1001 Military Street\, Port Huron\, MI\, 48060\, United States
CATEGORIES:Supervisor Meetings
ORGANIZER;CN="Executive Director":MAILTO:kcurtis@impactph.org
END:VEVENT
BEGIN:VEVENT
DTSTART;TZID=America/Detroit:20240318T170000
DTEND;TZID=America/Detroit:20240318T190000
DTSTAMP:20260425T064728
CREATED:20240325T152247Z
LAST-MODIFIED:20240325T152247Z
UID:15270-1710781200-1710788400@www.impactph.org
SUMMARY:Executive Board Meeting
DESCRIPTION:
URL:https://www.impactph.org/event/executive-board-meeting-58/
LOCATION:IMPACT Administration\, 1001 Military Street\, Port Huron\, MI\, 48060\, United States
CATEGORIES:Executive Board Meetings
ORGANIZER;CN="Executive Director":MAILTO:kcurtis@impactph.org
END:VEVENT
BEGIN:VEVENT
DTSTART;TZID=America/Detroit:20240314T090000
DTEND;TZID=America/Detroit:20240314T120000
DTSTAMP:20260425T064728
CREATED:20240325T152417Z
LAST-MODIFIED:20240325T152417Z
UID:15294-1710406800-1710417600@www.impactph.org
SUMMARY:Management Meeting
DESCRIPTION:
URL:https://www.impactph.org/event/management-meeting-154/
LOCATION:IMPACT Administration\, 1001 Military Street\, Port Huron\, MI\, 48060\, United States
CATEGORIES:Management Meetings
ORGANIZER;CN="Executive Director":MAILTO:kcurtis@impactph.org
END:VEVENT
BEGIN:VEVENT
DTSTART;TZID=America/Detroit:20240222T090000
DTEND;TZID=America/Detroit:20240222T120000
DTSTAMP:20260425T064728
CREATED:20240325T152403Z
LAST-MODIFIED:20240325T152403Z
UID:15293-1708592400-1708603200@www.impactph.org
SUMMARY:Management Meeting
DESCRIPTION:
URL:https://www.impactph.org/event/management-meeting-153/
LOCATION:IMPACT Administration\, 1001 Military Street\, Port Huron\, MI\, 48060\, United States
CATEGORIES:Management Meetings
ORGANIZER;CN="Executive Director":MAILTO:kcurtis@impactph.org
END:VEVENT
BEGIN:VEVENT
DTSTART;TZID=America/Detroit:20240220T100000
DTEND;TZID=America/Detroit:20240220T123000
DTSTAMP:20260425T064728
CREATED:20240325T152459Z
LAST-MODIFIED:20240325T152459Z
UID:15318-1708423200-1708432200@www.impactph.org
SUMMARY:Supervisor Meeting
DESCRIPTION:
URL:https://www.impactph.org/event/supervisor-meeting-64/
LOCATION:IMPACT Administration\, 1001 Military Street\, Port Huron\, MI\, 48060\, United States
CATEGORIES:Supervisor Meetings
ORGANIZER;CN="Executive Director":MAILTO:kcurtis@impactph.org
END:VEVENT
BEGIN:VEVENT
DTSTART;TZID=America/Detroit:20240212T170000
DTEND;TZID=America/Detroit:20240212T190000
DTSTAMP:20260425T064728
CREATED:20240325T152247Z
LAST-MODIFIED:20240325T152247Z
UID:15269-1707757200-1707764400@www.impactph.org
SUMMARY:Executive Board Meeting
DESCRIPTION:
URL:https://www.impactph.org/event/executive-board-meeting-57/
LOCATION:IMPACT Administration\, 1001 Military Street\, Port Huron\, MI\, 48060\, United States
CATEGORIES:Executive Board Meetings
ORGANIZER;CN="Executive Director":MAILTO:kcurtis@impactph.org
END:VEVENT
BEGIN:VEVENT
DTSTART;TZID=America/Detroit:20240208T090000
DTEND;TZID=America/Detroit:20240208T120000
DTSTAMP:20260425T064728
CREATED:20240325T152403Z
LAST-MODIFIED:20240325T152403Z
UID:15292-1707382800-1707393600@www.impactph.org
SUMMARY:Management Meeting
DESCRIPTION:
URL:https://www.impactph.org/event/management-meeting-152/
LOCATION:IMPACT Administration\, 1001 Military Street\, Port Huron\, MI\, 48060\, United States
CATEGORIES:Management Meetings
ORGANIZER;CN="Executive Director":MAILTO:kcurtis@impactph.org
END:VEVENT
BEGIN:VEVENT
DTSTART;TZID=America/Detroit:20240125T090000
DTEND;TZID=America/Detroit:20240125T120000
DTSTAMP:20260425T064728
CREATED:20240325T152403Z
LAST-MODIFIED:20240325T152403Z
UID:15291-1706173200-1706184000@www.impactph.org
SUMMARY:Management Meeting
DESCRIPTION:
URL:https://www.impactph.org/event/management-meeting-151/
LOCATION:IMPACT Administration\, 1001 Military Street\, Port Huron\, MI\, 48060\, United States
CATEGORIES:Management Meetings
ORGANIZER;CN="Executive Director":MAILTO:kcurtis@impactph.org
END:VEVENT
BEGIN:VEVENT
DTSTART;TZID=America/Detroit:20240116T150000
DTEND;TZID=America/Detroit:20240116T163000
DTSTAMP:20260425T064728
CREATED:20240325T152303Z
LAST-MODIFIED:20240325T152303Z
UID:15277-1705417200-1705422600@www.impactph.org
SUMMARY:Health & Safety Meeting
DESCRIPTION:
URL:https://www.impactph.org/event/health-safety-meeting-45/
LOCATION:IMPACT Administration\, 1001 Military Street\, Port Huron\, MI\, 48060\, United States
CATEGORIES:Health & Safety Meetings
ORGANIZER;CN="Executive Director":MAILTO:kcurtis@impactph.org
END:VEVENT
BEGIN:VEVENT
DTSTART;TZID=America/Detroit:20240116T100000
DTEND;TZID=America/Detroit:20240116T123000
DTSTAMP:20260425T064728
CREATED:20240325T152459Z
LAST-MODIFIED:20240325T152459Z
UID:15317-1705399200-1705408200@www.impactph.org
SUMMARY:Supervisor Meeting
DESCRIPTION:
URL:https://www.impactph.org/event/supervisor-meeting-63/
LOCATION:IMPACT Administration\, 1001 Military Street\, Port Huron\, MI\, 48060\, United States
CATEGORIES:Supervisor Meetings
ORGANIZER;CN="Executive Director":MAILTO:kcurtis@impactph.org
END:VEVENT
BEGIN:VEVENT
DTSTART;TZID=America/Detroit:20240111T090000
DTEND;TZID=America/Detroit:20240111T120000
DTSTAMP:20260425T064728
CREATED:20240325T152402Z
LAST-MODIFIED:20240325T152402Z
UID:15290-1704963600-1704974400@www.impactph.org
SUMMARY:Management Meeting
DESCRIPTION:
URL:https://www.impactph.org/event/management-meeting-150/
LOCATION:IMPACT Administration\, 1001 Military Street\, Port Huron\, MI\, 48060\, United States
CATEGORIES:Management Meetings
ORGANIZER;CN="Executive Director":MAILTO:kcurtis@impactph.org
END:VEVENT
BEGIN:VEVENT
DTSTART;TZID=America/Detroit:20240110T130000
DTEND;TZID=America/Detroit:20240110T150000
DTSTAMP:20260425T064728
CREATED:20240325T152452Z
LAST-MODIFIED:20240325T152452Z
UID:15312-1704891600-1704898800@www.impactph.org
SUMMARY:Quality Improvement Meeting
DESCRIPTION:
URL:https://www.impactph.org/event/quality-improvement-meeting-26/
LOCATION:IMPACT Administration\, 1001 Military Street\, Port Huron\, MI\, 48060\, United States
CATEGORIES:Quality Improvement Meetings
ORGANIZER;CN="Executive Director":MAILTO:kcurtis@impactph.org
END:VEVENT
BEGIN:VEVENT
DTSTART;TZID=America/Detroit:20240108T170000
DTEND;TZID=America/Detroit:20240108T190000
DTSTAMP:20260425T064728
CREATED:20240325T152245Z
LAST-MODIFIED:20240325T152245Z
UID:15268-1704733200-1704740400@www.impactph.org
SUMMARY:Executive Board Meeting
DESCRIPTION:
URL:https://www.impactph.org/event/executive-board-meeting-56/
LOCATION:IMPACT Administration\, 1001 Military Street\, Port Huron\, MI\, 48060\, United States
CATEGORIES:Executive Board Meetings
ORGANIZER;CN="Executive Director":MAILTO:kcurtis@impactph.org
END:VEVENT
BEGIN:VEVENT
DTSTART;VALUE=DATE:20231225
DTEND;VALUE=DATE:20231226
DTSTAMP:20260425T064728
CREATED:20240325T152244Z
LAST-MODIFIED:20240325T152244Z
UID:15264-1703462400-1703548799@www.impactph.org
SUMMARY:Christmas
DESCRIPTION:
URL:https://www.impactph.org/event/christmas-7/
LOCATION:MI
CATEGORIES:Holiday
ORGANIZER;CN="Executive Director":MAILTO:kcurtis@impactph.org
END:VEVENT
BEGIN:VEVENT
DTSTART;TZID=America/Detroit:20231218T090000
DTEND;TZID=America/Detroit:20231218T120000
DTSTAMP:20260425T064728
CREATED:20240325T152402Z
LAST-MODIFIED:20240325T152402Z
UID:15289-1702890000-1702900800@www.impactph.org
SUMMARY:Management Meeting
DESCRIPTION:
URL:https://www.impactph.org/event/management-meeting-149/
LOCATION:IMPACT Administration\, 1001 Military Street\, Port Huron\, MI\, 48060\, United States
CATEGORIES:Management Meetings
ORGANIZER;CN="Executive Director":MAILTO:kcurtis@impactph.org
END:VEVENT
BEGIN:VEVENT
DTSTART;TZID=America/Detroit:20231214T090000
DTEND;TZID=America/Detroit:20231214T120000
DTSTAMP:20260425T064728
CREATED:20240325T152334Z
LAST-MODIFIED:20240325T152334Z
UID:15288-1702544400-1702555200@www.impactph.org
SUMMARY:Management Meeting
DESCRIPTION:
URL:https://www.impactph.org/event/management-meeting-148/
LOCATION:IMPACT Administration\, 1001 Military Street\, Port Huron\, MI\, 48060\, United States
CATEGORIES:Management Meetings
ORGANIZER;CN="Executive Director":MAILTO:kcurtis@impactph.org
END:VEVENT
BEGIN:VEVENT
DTSTART;VALUE=DATE:20231202
DTEND;VALUE=DATE:20231203
DTSTAMP:20260425T064728
CREATED:20240325T152451Z
LAST-MODIFIED:20240325T152451Z
UID:15309-1701475200-1701561599@www.impactph.org
SUMMARY:Operation Good Cheer
DESCRIPTION:
URL:https://www.impactph.org/event/operation-good-cheer-7/
LOCATION:St. Clair County International Airport\, 177 Ash Drive\, Kimball\, MI\, 48074\, United States
CATEGORIES:Agency / Community Events
ORGANIZER;CN="Aaron Foote":MAILTO:afoote@impactph.org
END:VEVENT
BEGIN:VEVENT
DTSTART;VALUE=DATE:20231128
DTEND;VALUE=DATE:20231129
DTSTAMP:20260425T064728
CREATED:20240325T152529Z
LAST-MODIFIED:20240325T152529Z
UID:15325-1701129600-1701215999@www.impactph.org
SUMMARY:Thanksgiving
DESCRIPTION:
URL:https://www.impactph.org/event/thanksgiving-7/
LOCATION:MI
CATEGORIES:Holiday
ORGANIZER;CN="Executive Director":MAILTO:kcurtis@impactph.org
END:VEVENT
BEGIN:VEVENT
DTSTART;TZID=America/Detroit:20231123T090000
DTEND;TZID=America/Detroit:20231123T120000
DTSTAMP:20260425T064728
CREATED:20240325T152334Z
LAST-MODIFIED:20240325T152334Z
UID:15287-1700730000-1700740800@www.impactph.org
SUMMARY:Management Meeting
DESCRIPTION:
URL:https://www.impactph.org/event/management-meeting-147/
LOCATION:IMPACT Administration\, 1001 Military Street\, Port Huron\, MI\, 48060\, United States
CATEGORIES:Management Meetings
ORGANIZER;CN="Executive Director":MAILTO:kcurtis@impactph.org
END:VEVENT
BEGIN:VEVENT
DTSTART;TZID=America/Detroit:20231121T150000
DTEND;TZID=America/Detroit:20231121T163000
DTSTAMP:20260425T064728
CREATED:20240325T152303Z
LAST-MODIFIED:20240325T152303Z
UID:15276-1700578800-1700584200@www.impactph.org
SUMMARY:Health & Safety Meeting
DESCRIPTION:
URL:https://www.impactph.org/event/health-safety-meeting-13/
LOCATION:IMPACT Administration\, 1001 Military Street\, Port Huron\, MI\, 48060\, United States
CATEGORIES:Health & Safety Meetings
ORGANIZER;CN="Executive Director":MAILTO:kcurtis@impactph.org
END:VEVENT
BEGIN:VEVENT
DTSTART;TZID=America/Detroit:20231121T100000
DTEND;TZID=America/Detroit:20231121T123000
DTSTAMP:20260425T064728
CREATED:20240325T152458Z
LAST-MODIFIED:20240325T152458Z
UID:15316-1700560800-1700569800@www.impactph.org
SUMMARY:Supervisor Meeting
DESCRIPTION:
URL:https://www.impactph.org/event/supervisor-meeting-62/
LOCATION:IMPACT Administration\, 1001 Military Street\, Port Huron\, MI\, 48060\, United States
CATEGORIES:Supervisor Meetings
ORGANIZER;CN="Executive Director":MAILTO:kcurtis@impactph.org
END:VEVENT
BEGIN:VEVENT
DTSTART;TZID=America/Detroit:20231120T170000
DTEND;TZID=America/Detroit:20231120T190000
DTSTAMP:20260425T064728
CREATED:20240325T152245Z
LAST-MODIFIED:20240325T152245Z
UID:15267-1700499600-1700506800@www.impactph.org
SUMMARY:Executive Board Meeting
DESCRIPTION:
URL:https://www.impactph.org/event/executive-board-meeting-55/
LOCATION:IMPACT Administration\, 1001 Military Street\, Port Huron\, MI\, 48060\, United States
CATEGORIES:Executive Board Meetings
ORGANIZER;CN="Executive Director":MAILTO:kcurtis@impactph.org
END:VEVENT
END:VCALENDAR