BEGIN:VCALENDAR
VERSION:2.0
PRODID:-//I.M.P.A.C.T. - ECPv6.15.20//NONSGML v1.0//EN
CALSCALE:GREGORIAN
METHOD:PUBLISH
X-WR-CALNAME:I.M.P.A.C.T.
X-ORIGINAL-URL:https://www.impactph.org
X-WR-CALDESC:Events for I.M.P.A.C.T.
REFRESH-INTERVAL;VALUE=DURATION:PT1H
X-Robots-Tag:noindex
X-PUBLISHED-TTL:PT1H
BEGIN:VTIMEZONE
TZID:America/Detroit
BEGIN:DAYLIGHT
TZOFFSETFROM:-0500
TZOFFSETTO:-0400
TZNAME:EDT
DTSTART:20240310T070000
END:DAYLIGHT
BEGIN:STANDARD
TZOFFSETFROM:-0400
TZOFFSETTO:-0500
TZNAME:EST
DTSTART:20241103T060000
END:STANDARD
BEGIN:DAYLIGHT
TZOFFSETFROM:-0500
TZOFFSETTO:-0400
TZNAME:EDT
DTSTART:20250309T070000
END:DAYLIGHT
BEGIN:STANDARD
TZOFFSETFROM:-0400
TZOFFSETTO:-0500
TZNAME:EST
DTSTART:20251102T060000
END:STANDARD
BEGIN:DAYLIGHT
TZOFFSETFROM:-0500
TZOFFSETTO:-0400
TZNAME:EDT
DTSTART:20260308T070000
END:DAYLIGHT
BEGIN:STANDARD
TZOFFSETFROM:-0400
TZOFFSETTO:-0500
TZNAME:EST
DTSTART:20261101T060000
END:STANDARD
BEGIN:DAYLIGHT
TZOFFSETFROM:-0500
TZOFFSETTO:-0400
TZNAME:EDT
DTSTART:20270314T070000
END:DAYLIGHT
BEGIN:STANDARD
TZOFFSETFROM:-0400
TZOFFSETTO:-0500
TZNAME:EST
DTSTART:20271107T060000
END:STANDARD
END:VTIMEZONE
BEGIN:VEVENT
DTSTART;TZID=America/Detroit:20260423T090000
DTEND;TZID=America/Detroit:20260423T120000
DTSTAMP:20260423T161847
CREATED:20250918T154519Z
LAST-MODIFIED:20250918T154519Z
UID:32529-1776934800-1776945600@www.impactph.org
SUMMARY:Management Meeting
DESCRIPTION:
URL:https://www.impactph.org/event/management-meeting-201/
LOCATION:IMPACT Administration\, 1001 Military Street\, Port Huron\, MI\, 48060\, United States
CATEGORIES:Event,Management Meetings
ORGANIZER;CN="Executive Director":MAILTO:kcurtis@impactph.org
END:VEVENT
BEGIN:VEVENT
DTSTART;TZID=America/Detroit:20260409T090000
DTEND;TZID=America/Detroit:20260409T120000
DTSTAMP:20260423T161847
CREATED:20250918T154518Z
LAST-MODIFIED:20250918T154518Z
UID:32528-1775725200-1775736000@www.impactph.org
SUMMARY:Management Meeting
DESCRIPTION:
URL:https://www.impactph.org/event/management-meeting-200/
LOCATION:IMPACT Administration\, 1001 Military Street\, Port Huron\, MI\, 48060\, United States
CATEGORIES:Event,Management Meetings
ORGANIZER;CN="Executive Director":MAILTO:kcurtis@impactph.org
END:VEVENT
BEGIN:VEVENT
DTSTART;TZID=America/Detroit:20260326T090000
DTEND;TZID=America/Detroit:20260326T120000
DTSTAMP:20260423T161847
CREATED:20250918T154512Z
LAST-MODIFIED:20250918T154512Z
UID:32527-1774515600-1774526400@www.impactph.org
SUMMARY:Management Meeting
DESCRIPTION:
URL:https://www.impactph.org/event/management-meeting-199/
LOCATION:IMPACT Administration\, 1001 Military Street\, Port Huron\, MI\, 48060\, United States
CATEGORIES:Event,Management Meetings
ORGANIZER;CN="Executive Director":MAILTO:kcurtis@impactph.org
END:VEVENT
BEGIN:VEVENT
DTSTART;TZID=America/Detroit:20260312T090000
DTEND;TZID=America/Detroit:20260312T120000
DTSTAMP:20260423T161847
CREATED:20250918T154511Z
LAST-MODIFIED:20250918T154511Z
UID:32526-1773306000-1773316800@www.impactph.org
SUMMARY:Management Meeting
DESCRIPTION:
URL:https://www.impactph.org/event/management-meeting-198/
LOCATION:IMPACT Administration\, 1001 Military Street\, Port Huron\, MI\, 48060\, United States
CATEGORIES:Event,Management Meetings
ORGANIZER;CN="Executive Director":MAILTO:kcurtis@impactph.org
END:VEVENT
BEGIN:VEVENT
DTSTART;TZID=America/Detroit:20260226T090000
DTEND;TZID=America/Detroit:20260226T120000
DTSTAMP:20260423T161847
CREATED:20250918T154510Z
LAST-MODIFIED:20250918T154510Z
UID:32525-1772096400-1772107200@www.impactph.org
SUMMARY:Management Meeting
DESCRIPTION:
URL:https://www.impactph.org/event/management-meeting-197/
LOCATION:IMPACT Administration\, 1001 Military Street\, Port Huron\, MI\, 48060\, United States
CATEGORIES:Event,Management Meetings
ORGANIZER;CN="Executive Director":MAILTO:kcurtis@impactph.org
END:VEVENT
BEGIN:VEVENT
DTSTART;TZID=America/Detroit:20260212T090000
DTEND;TZID=America/Detroit:20260212T120000
DTSTAMP:20260423T161847
CREATED:20250918T154509Z
LAST-MODIFIED:20250918T154509Z
UID:32524-1770886800-1770897600@www.impactph.org
SUMMARY:Management Meeting
DESCRIPTION:
URL:https://www.impactph.org/event/management-meeting-196/
LOCATION:IMPACT Administration\, 1001 Military Street\, Port Huron\, MI\, 48060\, United States
CATEGORIES:Event,Management Meetings
ORGANIZER;CN="Executive Director":MAILTO:kcurtis@impactph.org
END:VEVENT
BEGIN:VEVENT
DTSTART;TZID=America/Detroit:20260122T090000
DTEND;TZID=America/Detroit:20260122T120000
DTSTAMP:20260423T161847
CREATED:20250918T154508Z
LAST-MODIFIED:20250918T154508Z
UID:32523-1769072400-1769083200@www.impactph.org
SUMMARY:Management Meeting
DESCRIPTION:
URL:https://www.impactph.org/event/management-meeting-195/
LOCATION:IMPACT Administration\, 1001 Military Street\, Port Huron\, MI\, 48060\, United States
CATEGORIES:Event,Management Meetings
ORGANIZER;CN="Executive Director":MAILTO:kcurtis@impactph.org
END:VEVENT
BEGIN:VEVENT
DTSTART;TZID=America/Detroit:20260108T090000
DTEND;TZID=America/Detroit:20260108T120000
DTSTAMP:20260423T161847
CREATED:20250918T154501Z
LAST-MODIFIED:20250918T154501Z
UID:32522-1767862800-1767873600@www.impactph.org
SUMMARY:Management Meeting
DESCRIPTION:
URL:https://www.impactph.org/event/management-meeting-194/
LOCATION:IMPACT Administration\, 1001 Military Street\, Port Huron\, MI\, 48060\, United States
CATEGORIES:Event,Management Meetings
ORGANIZER;CN="Executive Director":MAILTO:kcurtis@impactph.org
END:VEVENT
BEGIN:VEVENT
DTSTART;TZID=America/Detroit:20251211T090000
DTEND;TZID=America/Detroit:20251211T120000
DTSTAMP:20260423T161847
CREATED:20250918T154501Z
LAST-MODIFIED:20250918T154501Z
UID:32521-1765443600-1765454400@www.impactph.org
SUMMARY:Management Meeting
DESCRIPTION:
URL:https://www.impactph.org/event/management-meeting-193/
LOCATION:IMPACT Administration\, 1001 Military Street\, Port Huron\, MI\, 48060\, United States
CATEGORIES:Event,Management Meetings
ORGANIZER;CN="Executive Director":MAILTO:kcurtis@impactph.org
END:VEVENT
BEGIN:VEVENT
DTSTART;TZID=America/Detroit:20251113T090000
DTEND;TZID=America/Detroit:20251113T120000
DTSTAMP:20260423T161847
CREATED:20250918T154500Z
LAST-MODIFIED:20250918T154500Z
UID:32520-1763024400-1763035200@www.impactph.org
SUMMARY:Management Meeting
DESCRIPTION:
URL:https://www.impactph.org/event/management-meeting-192/
LOCATION:IMPACT Administration\, 1001 Military Street\, Port Huron\, MI\, 48060\, United States
CATEGORIES:Event,Management Meetings
ORGANIZER;CN="Executive Director":MAILTO:kcurtis@impactph.org
END:VEVENT
BEGIN:VEVENT
DTSTART;TZID=America/Detroit:20251023T090000
DTEND;TZID=America/Detroit:20251023T120000
DTSTAMP:20260423T161847
CREATED:20250918T154500Z
LAST-MODIFIED:20250918T154500Z
UID:32519-1761210000-1761220800@www.impactph.org
SUMMARY:Management Meeting
DESCRIPTION:
URL:https://www.impactph.org/event/management-meeting-191/
LOCATION:IMPACT Administration\, 1001 Military Street\, Port Huron\, MI\, 48060\, United States
CATEGORIES:Event,Management Meetings
ORGANIZER;CN="Executive Director":MAILTO:kcurtis@impactph.org
END:VEVENT
BEGIN:VEVENT
DTSTART;TZID=America/Detroit:20251009T090000
DTEND;TZID=America/Detroit:20251009T120000
DTSTAMP:20260423T161847
CREATED:20250918T154459Z
LAST-MODIFIED:20250918T154459Z
UID:32518-1760000400-1760011200@www.impactph.org
SUMMARY:Management Meeting
DESCRIPTION:
URL:https://www.impactph.org/event/management-meeting-190/
LOCATION:IMPACT Administration\, 1001 Military Street\, Port Huron\, MI\, 48060\, United States
CATEGORIES:Event,Management Meetings
ORGANIZER;CN="Executive Director":MAILTO:kcurtis@impactph.org
END:VEVENT
BEGIN:VEVENT
DTSTART;TZID=America/Detroit:20250925T090000
DTEND;TZID=America/Detroit:20250925T120000
DTSTAMP:20260423T161847
CREATED:20241004T135028Z
LAST-MODIFIED:20241004T135028Z
UID:17166-1758790800-1758801600@www.impactph.org
SUMMARY:Management Meeting
DESCRIPTION:
URL:https://www.impactph.org/event/management-meeting-189/
LOCATION:IMPACT Administration\, 1001 Military Street\, Port Huron\, MI\, 48060\, United States
CATEGORIES:Management Meetings
ORGANIZER;CN="Executive Director":MAILTO:kcurtis@impactph.org
END:VEVENT
BEGIN:VEVENT
DTSTART;TZID=America/Detroit:20250911T090000
DTEND;TZID=America/Detroit:20250911T120000
DTSTAMP:20260423T161847
CREATED:20241004T135026Z
LAST-MODIFIED:20241004T135026Z
UID:17165-1757581200-1757592000@www.impactph.org
SUMMARY:Management Meeting
DESCRIPTION:
URL:https://www.impactph.org/event/management-meeting-188/
LOCATION:IMPACT Administration\, 1001 Military Street\, Port Huron\, MI\, 48060\, United States
CATEGORIES:Management Meetings
ORGANIZER;CN="Executive Director":MAILTO:kcurtis@impactph.org
END:VEVENT
BEGIN:VEVENT
DTSTART;TZID=America/Detroit:20250828T090000
DTEND;TZID=America/Detroit:20250828T120000
DTSTAMP:20260423T161847
CREATED:20241004T135014Z
LAST-MODIFIED:20241004T135014Z
UID:17164-1756371600-1756382400@www.impactph.org
SUMMARY:Management Meeting
DESCRIPTION:
URL:https://www.impactph.org/event/management-meeting-187/
LOCATION:IMPACT Administration\, 1001 Military Street\, Port Huron\, MI\, 48060\, United States
CATEGORIES:Management Meetings
ORGANIZER;CN="Executive Director":MAILTO:kcurtis@impactph.org
END:VEVENT
BEGIN:VEVENT
DTSTART;TZID=America/Detroit:20250814T090000
DTEND;TZID=America/Detroit:20250814T120000
DTSTAMP:20260423T161847
CREATED:20241004T135013Z
LAST-MODIFIED:20241004T135013Z
UID:17163-1755162000-1755172800@www.impactph.org
SUMMARY:Management Meeting
DESCRIPTION:
URL:https://www.impactph.org/event/management-meeting-186/
LOCATION:IMPACT Administration\, 1001 Military Street\, Port Huron\, MI\, 48060\, United States
CATEGORIES:Management Meetings
ORGANIZER;CN="Executive Director":MAILTO:kcurtis@impactph.org
END:VEVENT
BEGIN:VEVENT
DTSTART;TZID=America/Detroit:20250724T090000
DTEND;TZID=America/Detroit:20250724T120000
DTSTAMP:20260423T161847
CREATED:20241004T135012Z
LAST-MODIFIED:20241004T135012Z
UID:17162-1753347600-1753358400@www.impactph.org
SUMMARY:Management Meeting
DESCRIPTION:
URL:https://www.impactph.org/event/management-meeting-185/
LOCATION:IMPACT Administration\, 1001 Military Street\, Port Huron\, MI\, 48060\, United States
CATEGORIES:Management Meetings
ORGANIZER;CN="Executive Director":MAILTO:kcurtis@impactph.org
END:VEVENT
BEGIN:VEVENT
DTSTART;TZID=America/Detroit:20250710T090000
DTEND;TZID=America/Detroit:20250710T120000
DTSTAMP:20260423T161847
CREATED:20241004T135011Z
LAST-MODIFIED:20241004T135011Z
UID:17161-1752138000-1752148800@www.impactph.org
SUMMARY:Management Meeting
DESCRIPTION:
URL:https://www.impactph.org/event/management-meeting-184/
LOCATION:IMPACT Administration\, 1001 Military Street\, Port Huron\, MI\, 48060\, United States
CATEGORIES:Management Meetings
ORGANIZER;CN="Executive Director":MAILTO:kcurtis@impactph.org
END:VEVENT
BEGIN:VEVENT
DTSTART;TZID=America/Detroit:20250626T090000
DTEND;TZID=America/Detroit:20250626T120000
DTSTAMP:20260423T161847
CREATED:20241004T135011Z
LAST-MODIFIED:20241004T135011Z
UID:17160-1750928400-1750939200@www.impactph.org
SUMMARY:Management Meeting
DESCRIPTION:
URL:https://www.impactph.org/event/management-meeting-183/
LOCATION:IMPACT Administration\, 1001 Military Street\, Port Huron\, MI\, 48060\, United States
CATEGORIES:Management Meetings
ORGANIZER;CN="Executive Director":MAILTO:kcurtis@impactph.org
END:VEVENT
BEGIN:VEVENT
DTSTART;TZID=America/Detroit:20250612T090000
DTEND;TZID=America/Detroit:20250612T120000
DTSTAMP:20260423T161847
CREATED:20241004T134952Z
LAST-MODIFIED:20241004T134952Z
UID:17159-1749718800-1749729600@www.impactph.org
SUMMARY:Management Meeting
DESCRIPTION:
URL:https://www.impactph.org/event/management-meeting-182/
LOCATION:IMPACT Administration\, 1001 Military Street\, Port Huron\, MI\, 48060\, United States
CATEGORIES:Management Meetings
ORGANIZER;CN="Executive Director":MAILTO:kcurtis@impactph.org
END:VEVENT
BEGIN:VEVENT
DTSTART;TZID=America/Detroit:20250522T090000
DTEND;TZID=America/Detroit:20250522T120000
DTSTAMP:20260423T161847
CREATED:20241004T134952Z
LAST-MODIFIED:20241004T134952Z
UID:17158-1747904400-1747915200@www.impactph.org
SUMMARY:Management Meeting
DESCRIPTION:
URL:https://www.impactph.org/event/management-meeting-181/
LOCATION:IMPACT Administration\, 1001 Military Street\, Port Huron\, MI\, 48060\, United States
CATEGORIES:Management Meetings
ORGANIZER;CN="Executive Director":MAILTO:kcurtis@impactph.org
END:VEVENT
BEGIN:VEVENT
DTSTART;TZID=America/Detroit:20250508T090000
DTEND;TZID=America/Detroit:20250508T120000
DTSTAMP:20260423T161847
CREATED:20241004T134952Z
LAST-MODIFIED:20241004T134952Z
UID:17157-1746694800-1746705600@www.impactph.org
SUMMARY:Management Meeting
DESCRIPTION:
URL:https://www.impactph.org/event/management-meeting-180/
LOCATION:IMPACT Administration\, 1001 Military Street\, Port Huron\, MI\, 48060\, United States
CATEGORIES:Management Meetings
ORGANIZER;CN="Executive Director":MAILTO:kcurtis@impactph.org
END:VEVENT
BEGIN:VEVENT
DTSTART;TZID=America/Detroit:20250424T090000
DTEND;TZID=America/Detroit:20250424T120000
DTSTAMP:20260423T161847
CREATED:20241004T134951Z
LAST-MODIFIED:20241004T134951Z
UID:17156-1745485200-1745496000@www.impactph.org
SUMMARY:Management Meeting
DESCRIPTION:
URL:https://www.impactph.org/event/management-meeting-179/
LOCATION:IMPACT Administration\, 1001 Military Street\, Port Huron\, MI\, 48060\, United States
CATEGORIES:Management Meetings
ORGANIZER;CN="Executive Director":MAILTO:kcurtis@impactph.org
END:VEVENT
BEGIN:VEVENT
DTSTART;TZID=America/Detroit:20250410T090000
DTEND;TZID=America/Detroit:20250410T120000
DTSTAMP:20260423T161847
CREATED:20241004T134951Z
LAST-MODIFIED:20241004T134951Z
UID:17155-1744275600-1744286400@www.impactph.org
SUMMARY:Management Meeting
DESCRIPTION:
URL:https://www.impactph.org/event/management-meeting-178/
LOCATION:IMPACT Administration\, 1001 Military Street\, Port Huron\, MI\, 48060\, United States
CATEGORIES:Management Meetings
ORGANIZER;CN="Executive Director":MAILTO:kcurtis@impactph.org
END:VEVENT
BEGIN:VEVENT
DTSTART;TZID=America/Detroit:20250327T090000
DTEND;TZID=America/Detroit:20250327T120000
DTSTAMP:20260423T161847
CREATED:20241004T134933Z
LAST-MODIFIED:20241004T134933Z
UID:17154-1743066000-1743076800@www.impactph.org
SUMMARY:Management Meeting
DESCRIPTION:
URL:https://www.impactph.org/event/management-meeting-177/
LOCATION:IMPACT Administration\, 1001 Military Street\, Port Huron\, MI\, 48060\, United States
CATEGORIES:Management Meetings
ORGANIZER;CN="Executive Director":MAILTO:kcurtis@impactph.org
END:VEVENT
BEGIN:VEVENT
DTSTART;TZID=America/Detroit:20250313T090000
DTEND;TZID=America/Detroit:20250313T120000
DTSTAMP:20260423T161847
CREATED:20241004T134932Z
LAST-MODIFIED:20241004T134932Z
UID:17153-1741856400-1741867200@www.impactph.org
SUMMARY:Management Meeting
DESCRIPTION:
URL:https://www.impactph.org/event/management-meeting-176/
LOCATION:IMPACT Administration\, 1001 Military Street\, Port Huron\, MI\, 48060\, United States
CATEGORIES:Management Meetings
ORGANIZER;CN="Executive Director":MAILTO:kcurtis@impactph.org
END:VEVENT
BEGIN:VEVENT
DTSTART;TZID=America/Detroit:20250227T090000
DTEND;TZID=America/Detroit:20250227T120000
DTSTAMP:20260423T161847
CREATED:20241004T134932Z
LAST-MODIFIED:20241004T134932Z
UID:17152-1740646800-1740657600@www.impactph.org
SUMMARY:Management Meeting
DESCRIPTION:
URL:https://www.impactph.org/event/management-meeting-175/
LOCATION:IMPACT Administration\, 1001 Military Street\, Port Huron\, MI\, 48060\, United States
CATEGORIES:Management Meetings
ORGANIZER;CN="Executive Director":MAILTO:kcurtis@impactph.org
END:VEVENT
BEGIN:VEVENT
DTSTART;TZID=America/Detroit:20250213T090000
DTEND;TZID=America/Detroit:20250213T120000
DTSTAMP:20260423T161847
CREATED:20241004T134932Z
LAST-MODIFIED:20241004T134932Z
UID:17151-1739437200-1739448000@www.impactph.org
SUMMARY:Management Meeting
DESCRIPTION:
URL:https://www.impactph.org/event/management-meeting-174/
LOCATION:IMPACT Administration\, 1001 Military Street\, Port Huron\, MI\, 48060\, United States
CATEGORIES:Management Meetings
ORGANIZER;CN="Executive Director":MAILTO:kcurtis@impactph.org
END:VEVENT
BEGIN:VEVENT
DTSTART;TZID=America/Detroit:20250123T090000
DTEND;TZID=America/Detroit:20250123T120000
DTSTAMP:20260423T161847
CREATED:20241004T134932Z
LAST-MODIFIED:20241004T134932Z
UID:17150-1737622800-1737633600@www.impactph.org
SUMMARY:Management Meeting
DESCRIPTION:
URL:https://www.impactph.org/event/management-meeting-173/
LOCATION:IMPACT Administration\, 1001 Military Street\, Port Huron\, MI\, 48060\, United States
CATEGORIES:Management Meetings
ORGANIZER;CN="Executive Director":MAILTO:kcurtis@impactph.org
END:VEVENT
BEGIN:VEVENT
DTSTART;TZID=America/Detroit:20250109T090000
DTEND;TZID=America/Detroit:20250109T120000
DTSTAMP:20260423T161847
CREATED:20241004T134922Z
LAST-MODIFIED:20241004T134922Z
UID:17149-1736413200-1736424000@www.impactph.org
SUMMARY:Management Meeting
DESCRIPTION:
URL:https://www.impactph.org/event/management-meeting-172/
LOCATION:IMPACT Administration\, 1001 Military Street\, Port Huron\, MI\, 48060\, United States
CATEGORIES:Management Meetings
ORGANIZER;CN="Executive Director":MAILTO:kcurtis@impactph.org
END:VEVENT
END:VCALENDAR