BEGIN:VCALENDAR
VERSION:2.0
PRODID:-//I.M.P.A.C.T. - ECPv6.15.20//NONSGML v1.0//EN
CALSCALE:GREGORIAN
METHOD:PUBLISH
X-ORIGINAL-URL:https://www.impactph.org
X-WR-CALDESC:Events for I.M.P.A.C.T.
REFRESH-INTERVAL;VALUE=DURATION:PT1H
X-Robots-Tag:noindex
X-PUBLISHED-TTL:PT1H
BEGIN:VTIMEZONE
TZID:America/Detroit
BEGIN:DAYLIGHT
TZOFFSETFROM:-0500
TZOFFSETTO:-0400
TZNAME:EDT
DTSTART:20190310T070000
END:DAYLIGHT
BEGIN:STANDARD
TZOFFSETFROM:-0400
TZOFFSETTO:-0500
TZNAME:EST
DTSTART:20191103T060000
END:STANDARD
BEGIN:DAYLIGHT
TZOFFSETFROM:-0500
TZOFFSETTO:-0400
TZNAME:EDT
DTSTART:20200308T070000
END:DAYLIGHT
BEGIN:STANDARD
TZOFFSETFROM:-0400
TZOFFSETTO:-0500
TZNAME:EST
DTSTART:20201101T060000
END:STANDARD
BEGIN:DAYLIGHT
TZOFFSETFROM:-0500
TZOFFSETTO:-0400
TZNAME:EDT
DTSTART:20210314T070000
END:DAYLIGHT
BEGIN:STANDARD
TZOFFSETFROM:-0400
TZOFFSETTO:-0500
TZNAME:EST
DTSTART:20211107T060000
END:STANDARD
BEGIN:DAYLIGHT
TZOFFSETFROM:-0500
TZOFFSETTO:-0400
TZNAME:EDT
DTSTART:20220313T070000
END:DAYLIGHT
BEGIN:STANDARD
TZOFFSETFROM:-0400
TZOFFSETTO:-0500
TZNAME:EST
DTSTART:20221106T060000
END:STANDARD
BEGIN:DAYLIGHT
TZOFFSETFROM:-0500
TZOFFSETTO:-0400
TZNAME:EDT
DTSTART:20230312T070000
END:DAYLIGHT
BEGIN:STANDARD
TZOFFSETFROM:-0400
TZOFFSETTO:-0500
TZNAME:EST
DTSTART:20231105T060000
END:STANDARD
BEGIN:DAYLIGHT
TZOFFSETFROM:-0500
TZOFFSETTO:-0400
TZNAME:EDT
DTSTART:20240310T070000
END:DAYLIGHT
BEGIN:STANDARD
TZOFFSETFROM:-0400
TZOFFSETTO:-0500
TZNAME:EST
DTSTART:20241103T060000
END:STANDARD
BEGIN:DAYLIGHT
TZOFFSETFROM:-0500
TZOFFSETTO:-0400
TZNAME:EDT
DTSTART:20250309T070000
END:DAYLIGHT
BEGIN:STANDARD
TZOFFSETFROM:-0400
TZOFFSETTO:-0500
TZNAME:EST
DTSTART:20251102T060000
END:STANDARD
BEGIN:DAYLIGHT
TZOFFSETFROM:-0500
TZOFFSETTO:-0400
TZNAME:EDT
DTSTART:20260308T070000
END:DAYLIGHT
BEGIN:STANDARD
TZOFFSETFROM:-0400
TZOFFSETTO:-0500
TZNAME:EST
DTSTART:20261101T060000
END:STANDARD
BEGIN:DAYLIGHT
TZOFFSETFROM:-0500
TZOFFSETTO:-0400
TZNAME:EDT
DTSTART:20270314T070000
END:DAYLIGHT
BEGIN:STANDARD
TZOFFSETFROM:-0400
TZOFFSETTO:-0500
TZNAME:EST
DTSTART:20271107T060000
END:STANDARD
END:VTIMEZONE
BEGIN:VEVENT
DTSTART;VALUE=DATE:20260405
DTEND;VALUE=DATE:20260406
DTSTAMP:20260423T052854
CREATED:20250918T154323Z
LAST-MODIFIED:20250918T154323Z
UID:32499-1775347200-1775433599@www.impactph.org
SUMMARY:Easter
DESCRIPTION:
URL:https://www.impactph.org/event/easter-9/
CATEGORIES:Event,Holiday
ORGANIZER;CN="Executive Director":MAILTO:kcurtis@impactph.org
END:VEVENT
BEGIN:VEVENT
DTSTART;VALUE=DATE:20251225
DTEND;VALUE=DATE:20251226
DTSTAMP:20260423T052854
CREATED:20250918T154322Z
LAST-MODIFIED:20250918T154322Z
UID:32498-1766620800-1766707199@www.impactph.org
SUMMARY:Christmas
DESCRIPTION:
URL:https://www.impactph.org/event/christmas-9/
CATEGORIES:Event,Holiday
ORGANIZER;CN="Executive Director":MAILTO:kcurtis@impactph.org
END:VEVENT
BEGIN:VEVENT
DTSTART;VALUE=DATE:20251031
DTEND;VALUE=DATE:20251101
DTSTAMP:20260423T052854
CREATED:20250918T154343Z
LAST-MODIFIED:20250918T154343Z
UID:32509-1761868800-1761955199@www.impactph.org
SUMMARY:Halloween
DESCRIPTION:
URL:https://www.impactph.org/event/halloween-6/
CATEGORIES:Event,Holiday
ORGANIZER;CN="Executive Director":MAILTO:kcurtis@impactph.org
END:VEVENT
BEGIN:VEVENT
DTSTART;VALUE=DATE:20250901
DTEND;VALUE=DATE:20250902
DTSTAMP:20260423T052854
CREATED:20241004T134336Z
LAST-MODIFIED:20241004T134336Z
UID:17144-1756684800-1756771199@www.impactph.org
SUMMARY:Labor Day
DESCRIPTION:
URL:https://www.impactph.org/event/labor-day-5/
CATEGORIES:Holiday
ORGANIZER;CN="Executive Director":MAILTO:kcurtis@impactph.org
END:VEVENT
BEGIN:VEVENT
DTSTART;VALUE=DATE:20250704
DTEND;VALUE=DATE:20250705
DTSTAMP:20260423T052854
CREATED:20241004T134336Z
LAST-MODIFIED:20241004T134336Z
UID:17143-1751587200-1751673599@www.impactph.org
SUMMARY:Independence Day
DESCRIPTION:
URL:https://www.impactph.org/event/independence-day-8/
CATEGORIES:Holiday
ORGANIZER;CN="Executive Director":MAILTO:kcurtis@impactph.org
END:VEVENT
BEGIN:VEVENT
DTSTART;VALUE=DATE:20250526
DTEND;VALUE=DATE:20250527
DTSTAMP:20260423T052854
CREATED:20241004T135029Z
LAST-MODIFIED:20241004T135029Z
UID:17167-1748217600-1748303999@www.impactph.org
SUMMARY:Memorial Day
DESCRIPTION:
URL:https://www.impactph.org/event/memorial-day-8/
CATEGORIES:Holiday
ORGANIZER;CN="Executive Director":MAILTO:kcurtis@impactph.org
END:VEVENT
BEGIN:VEVENT
DTSTART;VALUE=DATE:20250420
DTEND;VALUE=DATE:20250421
DTSTAMP:20260423T052854
CREATED:20241004T134300Z
LAST-MODIFIED:20241004T134300Z
UID:17126-1745107200-1745193599@www.impactph.org
SUMMARY:Easter
DESCRIPTION:
URL:https://www.impactph.org/event/easter-8/
CATEGORIES:Holiday
ORGANIZER;CN="Executive Director":MAILTO:kcurtis@impactph.org
END:VEVENT
BEGIN:VEVENT
DTSTART;VALUE=DATE:20241225
DTEND;VALUE=DATE:20241226
DTSTAMP:20260423T052854
CREATED:20241004T134259Z
LAST-MODIFIED:20241004T134259Z
UID:17125-1735084800-1735171199@www.impactph.org
SUMMARY:Christmas
DESCRIPTION:
URL:https://www.impactph.org/event/christmas-8/
CATEGORIES:Holiday
ORGANIZER;CN="Executive Director":MAILTO:kcurtis@impactph.org
END:VEVENT
BEGIN:VEVENT
DTSTART;VALUE=DATE:20241128
DTEND;VALUE=DATE:20241129
DTSTAMP:20260423T052854
CREATED:20241004T135349Z
LAST-MODIFIED:20241004T135349Z
UID:17187-1732752000-1732838399@www.impactph.org
SUMMARY:Thanksgiving
DESCRIPTION:
URL:https://www.impactph.org/event/thanksgiving-8/
CATEGORIES:Holiday
ORGANIZER;CN="Executive Director":MAILTO:kcurtis@impactph.org
END:VEVENT
BEGIN:VEVENT
DTSTART;VALUE=DATE:20241031
DTEND;VALUE=DATE:20241101
DTSTAMP:20260423T052854
CREATED:20241004T134321Z
LAST-MODIFIED:20241004T134321Z
UID:17136-1730332800-1730419199@www.impactph.org
SUMMARY:Halloween
DESCRIPTION:
URL:https://www.impactph.org/event/halloween-5/
CATEGORIES:Holiday
ORGANIZER;CN="Executive Director":MAILTO:kcurtis@impactph.org
END:VEVENT
BEGIN:VEVENT
DTSTART;VALUE=DATE:20240902
DTEND;VALUE=DATE:20240903
DTSTAMP:20260423T052854
CREATED:20240325T152318Z
LAST-MODIFIED:20240325T152318Z
UID:15283-1725235200-1725321599@www.impactph.org
SUMMARY:Labor Day
DESCRIPTION:
URL:https://www.impactph.org/event/labor-day-4/
CATEGORIES:Holiday
ORGANIZER;CN="Executive Director":MAILTO:kcurtis@impactph.org
END:VEVENT
BEGIN:VEVENT
DTSTART;VALUE=DATE:20240704
DTEND;VALUE=DATE:20240705
DTSTAMP:20260423T052854
CREATED:20240325T152318Z
LAST-MODIFIED:20240325T152318Z
UID:15282-1720051200-1720137599@www.impactph.org
SUMMARY:Independence Day
DESCRIPTION:
URL:https://www.impactph.org/event/independence-day-7/
CATEGORIES:Holiday
ORGANIZER;CN="Executive Director":MAILTO:kcurtis@impactph.org
END:VEVENT
BEGIN:VEVENT
DTSTART;VALUE=DATE:20240527
DTEND;VALUE=DATE:20240528
DTSTAMP:20260423T052854
CREATED:20240325T152436Z
LAST-MODIFIED:20240325T152436Z
UID:15308-1716768000-1716854399@www.impactph.org
SUMMARY:Memorial Day
DESCRIPTION:
URL:https://www.impactph.org/event/memorial-day-7/
CATEGORIES:Holiday
ORGANIZER;CN="Executive Director":MAILTO:kcurtis@impactph.org
END:VEVENT
BEGIN:VEVENT
DTSTART;VALUE=DATE:20240331
DTEND;VALUE=DATE:20240401
DTSTAMP:20260423T052854
CREATED:20240325T152244Z
LAST-MODIFIED:20240325T152244Z
UID:15265-1711843200-1711929599@www.impactph.org
SUMMARY:Easter
DESCRIPTION:
URL:https://www.impactph.org/event/easter-7/
CATEGORIES:Holiday
ORGANIZER;CN="Executive Director":MAILTO:kcurtis@impactph.org
END:VEVENT
BEGIN:VEVENT
DTSTART;VALUE=DATE:20231225
DTEND;VALUE=DATE:20231226
DTSTAMP:20260423T052854
CREATED:20240325T152244Z
LAST-MODIFIED:20240325T152244Z
UID:15264-1703462400-1703548799@www.impactph.org
SUMMARY:Christmas
DESCRIPTION:
URL:https://www.impactph.org/event/christmas-7/
CATEGORIES:Holiday
ORGANIZER;CN="Executive Director":MAILTO:kcurtis@impactph.org
END:VEVENT
BEGIN:VEVENT
DTSTART;VALUE=DATE:20231128
DTEND;VALUE=DATE:20231129
DTSTAMP:20260423T052854
CREATED:20240325T152529Z
LAST-MODIFIED:20240325T152529Z
UID:15325-1701129600-1701215999@www.impactph.org
SUMMARY:Thanksgiving
DESCRIPTION:
URL:https://www.impactph.org/event/thanksgiving-7/
CATEGORIES:Holiday
ORGANIZER;CN="Executive Director":MAILTO:kcurtis@impactph.org
END:VEVENT
BEGIN:VEVENT
DTSTART;VALUE=DATE:20231031
DTEND;VALUE=DATE:20231101
DTSTAMP:20260423T052854
CREATED:20240325T152303Z
LAST-MODIFIED:20240325T152303Z
UID:15275-1698710400-1698796799@www.impactph.org
SUMMARY:Halloween
DESCRIPTION:
URL:https://www.impactph.org/event/halloween-4/
CATEGORIES:Holiday
ORGANIZER;CN="Executive Director":MAILTO:kcurtis@impactph.org
END:VEVENT
BEGIN:VEVENT
DTSTART;VALUE=DATE:20220905
DTEND;VALUE=DATE:20220906
DTSTAMP:20260423T052854
CREATED:20210924T135004Z
LAST-MODIFIED:20210924T135004Z
UID:3497-1662336000-1662422399@www.impactph.org
SUMMARY:Labor Day
DESCRIPTION:
URL:https://www.impactph.org/event/labor-day-3/
CATEGORIES:Holiday
ORGANIZER;CN="Executive Director":MAILTO:kcurtis@impactph.org
END:VEVENT
BEGIN:VEVENT
DTSTART;VALUE=DATE:20220704
DTEND;VALUE=DATE:20220705
DTSTAMP:20260423T052854
CREATED:20210924T135004Z
LAST-MODIFIED:20210924T135004Z
UID:3496-1656892800-1656979199@www.impactph.org
SUMMARY:Independence Day
DESCRIPTION:
URL:https://www.impactph.org/event/independence-day-6/
CATEGORIES:Holiday
ORGANIZER;CN="Executive Director":MAILTO:kcurtis@impactph.org
END:VEVENT
BEGIN:VEVENT
DTSTART;VALUE=DATE:20220530
DTEND;VALUE=DATE:20220531
DTSTAMP:20260423T052854
CREATED:20210924T135020Z
LAST-MODIFIED:20210924T135020Z
UID:3521-1653868800-1653955199@www.impactph.org
SUMMARY:Memorial Day
DESCRIPTION:
URL:https://www.impactph.org/event/memorial-day-2/
CATEGORIES:Holiday
ORGANIZER;CN="Executive Director":MAILTO:kcurtis@impactph.org
END:VEVENT
BEGIN:VEVENT
DTSTART;VALUE=DATE:20220417
DTEND;VALUE=DATE:20220418
DTSTAMP:20260423T052854
CREATED:20210924T134954Z
LAST-MODIFIED:20210924T134954Z
UID:3479-1650153600-1650239999@www.impactph.org
SUMMARY:Easter
DESCRIPTION:
URL:https://www.impactph.org/event/easter-6/
CATEGORIES:Holiday
ORGANIZER;CN="Executive Director":MAILTO:kcurtis@impactph.org
END:VEVENT
BEGIN:VEVENT
DTSTART;VALUE=DATE:20211225
DTEND;VALUE=DATE:20211226
DTSTAMP:20260423T052854
CREATED:20210924T134954Z
LAST-MODIFIED:20210924T134954Z
UID:3478-1640390400-1640476799@www.impactph.org
SUMMARY:Christmas
DESCRIPTION:
URL:https://www.impactph.org/event/christmas-6/
CATEGORIES:Holiday
ORGANIZER;CN="Executive Director":MAILTO:kcurtis@impactph.org
END:VEVENT
BEGIN:VEVENT
DTSTART;VALUE=DATE:20211125
DTEND;VALUE=DATE:20211126
DTSTAMP:20260423T052854
CREATED:20210924T135032Z
LAST-MODIFIED:20210924T135032Z
UID:3538-1637798400-1637884799@www.impactph.org
SUMMARY:Thanksgiving
DESCRIPTION:
URL:https://www.impactph.org/event/thanksgiving-6/
CATEGORIES:Holiday
ORGANIZER;CN="Executive Director":MAILTO:kcurtis@impactph.org
END:VEVENT
BEGIN:VEVENT
DTSTART;VALUE=DATE:20211031
DTEND;VALUE=DATE:20211101
DTSTAMP:20260423T052854
CREATED:20210924T135001Z
LAST-MODIFIED:20210924T135001Z
UID:3489-1635638400-1635724799@www.impactph.org
SUMMARY:Halloween
DESCRIPTION:
URL:https://www.impactph.org/event/halloween-3/
CATEGORIES:Holiday
ORGANIZER;CN="Executive Director":MAILTO:kcurtis@impactph.org
END:VEVENT
BEGIN:VEVENT
DTSTART;VALUE=DATE:20210906
DTEND;VALUE=DATE:20210907
DTSTAMP:20260423T052854
CREATED:20201110T162028Z
LAST-MODIFIED:20201110T170913Z
UID:3210-1630886400-1630972799@www.impactph.org
SUMMARY:Labor Day
DESCRIPTION:
URL:https://www.impactph.org/event/labor-day-2/
CATEGORIES:Holiday
ORGANIZER;CN="Executive Director":MAILTO:kcurtis@impactph.org
END:VEVENT
BEGIN:VEVENT
DTSTART;VALUE=DATE:20210704
DTEND;VALUE=DATE:20210705
DTSTAMP:20260423T052854
CREATED:20201110T162027Z
LAST-MODIFIED:20201110T170914Z
UID:3207-1625356800-1625443199@www.impactph.org
SUMMARY:Independence Day
DESCRIPTION:
URL:https://www.impactph.org/event/independence-day/
CATEGORIES:Holiday
ORGANIZER;CN="Executive Director":MAILTO:kcurtis@impactph.org
END:VEVENT
BEGIN:VEVENT
DTSTART;VALUE=DATE:20210531
DTEND;VALUE=DATE:20210601
DTSTAMP:20260423T052854
CREATED:20201110T162024Z
LAST-MODIFIED:20201110T170931Z
UID:3205-1622419200-1622505599@www.impactph.org
SUMMARY:Memorial Day
DESCRIPTION:
URL:https://www.impactph.org/event/memorial-day/
CATEGORIES:Holiday
ORGANIZER;CN="Executive Director":MAILTO:kcurtis@impactph.org
END:VEVENT
BEGIN:VEVENT
DTSTART;VALUE=DATE:20210404
DTEND;VALUE=DATE:20210405
DTSTAMP:20260423T052854
CREATED:20201110T162023Z
LAST-MODIFIED:20201110T170932Z
UID:3204-1617494400-1617580799@www.impactph.org
SUMMARY:Easter
DESCRIPTION:
URL:https://www.impactph.org/event/easter/
CATEGORIES:Holiday
ORGANIZER;CN="Executive Director":MAILTO:kcurtis@impactph.org
END:VEVENT
BEGIN:VEVENT
DTSTART;VALUE=DATE:20201225
DTEND;VALUE=DATE:20201226
DTSTAMP:20260423T052854
CREATED:20201110T162022Z
LAST-MODIFIED:20201110T170941Z
UID:3202-1608854400-1608940799@www.impactph.org
SUMMARY:Christmas
DESCRIPTION:
URL:https://www.impactph.org/event/christmas/
CATEGORIES:Holiday
ORGANIZER;CN="Executive Director":MAILTO:kcurtis@impactph.org
END:VEVENT
BEGIN:VEVENT
DTSTART;VALUE=DATE:20201126
DTEND;VALUE=DATE:20201127
DTSTAMP:20260423T052854
CREATED:20201110T162022Z
LAST-MODIFIED:20201110T170942Z
UID:3201-1606348800-1606435199@www.impactph.org
SUMMARY:Thanksgiving
DESCRIPTION:
URL:https://www.impactph.org/event/thanksgiving/
CATEGORIES:Holiday
ORGANIZER;CN="Executive Director":MAILTO:kcurtis@impactph.org
END:VEVENT
END:VCALENDAR