BEGIN:VCALENDAR
VERSION:2.0
PRODID:-//I.M.P.A.C.T. - ECPv6.15.20//NONSGML v1.0//EN
CALSCALE:GREGORIAN
METHOD:PUBLISH
X-WR-CALNAME:I.M.P.A.C.T.
X-ORIGINAL-URL:https://www.impactph.org
X-WR-CALDESC:Events for I.M.P.A.C.T.
REFRESH-INTERVAL;VALUE=DURATION:PT1H
X-Robots-Tag:noindex
X-PUBLISHED-TTL:PT1H
BEGIN:VTIMEZONE
TZID:America/Detroit
BEGIN:DAYLIGHT
TZOFFSETFROM:-0500
TZOFFSETTO:-0400
TZNAME:EDT
DTSTART:20240310T070000
END:DAYLIGHT
BEGIN:STANDARD
TZOFFSETFROM:-0400
TZOFFSETTO:-0500
TZNAME:EST
DTSTART:20241103T060000
END:STANDARD
BEGIN:DAYLIGHT
TZOFFSETFROM:-0500
TZOFFSETTO:-0400
TZNAME:EDT
DTSTART:20250309T070000
END:DAYLIGHT
BEGIN:STANDARD
TZOFFSETFROM:-0400
TZOFFSETTO:-0500
TZNAME:EST
DTSTART:20251102T060000
END:STANDARD
BEGIN:DAYLIGHT
TZOFFSETFROM:-0500
TZOFFSETTO:-0400
TZNAME:EDT
DTSTART:20260308T070000
END:DAYLIGHT
BEGIN:STANDARD
TZOFFSETFROM:-0400
TZOFFSETTO:-0500
TZNAME:EST
DTSTART:20261101T060000
END:STANDARD
BEGIN:DAYLIGHT
TZOFFSETFROM:-0500
TZOFFSETTO:-0400
TZNAME:EDT
DTSTART:20270314T070000
END:DAYLIGHT
BEGIN:STANDARD
TZOFFSETFROM:-0400
TZOFFSETTO:-0500
TZNAME:EST
DTSTART:20271107T060000
END:STANDARD
END:VTIMEZONE
BEGIN:VEVENT
DTSTART;TZID=America/Detroit:20251117T170000
DTEND;TZID=America/Detroit:20251117T190000
DTSTAMP:20260425T064801
CREATED:20250918T154323Z
LAST-MODIFIED:20250918T154323Z
UID:32501-1763398800-1763406000@www.impactph.org
SUMMARY:Executive Board Meeting
DESCRIPTION:
URL:https://www.impactph.org/event/executive-board-meeting-73/
LOCATION:IMPACT Administration\, 1001 Military Street\, Port Huron\, MI\, 48060\, United States
CATEGORIES:Event,Executive Board Meetings
ORGANIZER;CN="Executive Director":MAILTO:kcurtis@impactph.org
END:VEVENT
BEGIN:VEVENT
DTSTART;TZID=America/Detroit:20260112T170000
DTEND;TZID=America/Detroit:20260112T190000
DTSTAMP:20260425T064801
CREATED:20250918T154324Z
LAST-MODIFIED:20250918T154324Z
UID:32502-1768237200-1768244400@www.impactph.org
SUMMARY:Executive Board Meeting
DESCRIPTION:
URL:https://www.impactph.org/event/executive-board-meeting-74/
LOCATION:IMPACT Administration\, 1001 Military Street\, Port Huron\, MI\, 48060\, United States
CATEGORIES:Event,Executive Board Meetings
ORGANIZER;CN="Executive Director":MAILTO:kcurtis@impactph.org
END:VEVENT
BEGIN:VEVENT
DTSTART;TZID=America/Detroit:20260209T170000
DTEND;TZID=America/Detroit:20260209T190000
DTSTAMP:20260425T064801
CREATED:20250918T154326Z
LAST-MODIFIED:20250918T154326Z
UID:32503-1770656400-1770663600@www.impactph.org
SUMMARY:Executive Board Meeting
DESCRIPTION:
URL:https://www.impactph.org/event/executive-board-meeting-75/
LOCATION:IMPACT Administration\, 1001 Military Street\, Port Huron\, MI\, 48060\, United States
CATEGORIES:Event,Executive Board Meetings
ORGANIZER;CN="Executive Director":MAILTO:kcurtis@impactph.org
END:VEVENT
BEGIN:VEVENT
DTSTART;TZID=America/Detroit:20260316T170000
DTEND;TZID=America/Detroit:20260316T190000
DTSTAMP:20260425T064801
CREATED:20250918T154326Z
LAST-MODIFIED:20250918T154326Z
UID:32504-1773680400-1773687600@www.impactph.org
SUMMARY:Executive Board Meeting
DESCRIPTION:
URL:https://www.impactph.org/event/executive-board-meeting-76/
LOCATION:IMPACT Administration\, 1001 Military Street\, Port Huron\, MI\, 48060\, United States
CATEGORIES:Event,Executive Board Meetings
ORGANIZER;CN="Executive Director":MAILTO:kcurtis@impactph.org
END:VEVENT
BEGIN:VEVENT
DTSTART;TZID=America/Detroit:20260420T170000
DTEND;TZID=America/Detroit:20260420T190000
DTSTAMP:20260425T064801
CREATED:20250918T154327Z
LAST-MODIFIED:20250918T154327Z
UID:32505-1776704400-1776711600@www.impactph.org
SUMMARY:Executive Board Meeting
DESCRIPTION:
URL:https://www.impactph.org/event/executive-board-meeting-77/
LOCATION:IMPACT Administration\, 1001 Military Street\, Port Huron\, MI\, 48060\, United States
CATEGORIES:Event,Executive Board Meetings
ORGANIZER;CN="Executive Director":MAILTO:kcurtis@impactph.org
END:VEVENT
BEGIN:VEVENT
DTSTART;TZID=America/Detroit:20260518T170000
DTEND;TZID=America/Detroit:20260518T190000
DTSTAMP:20260425T064801
CREATED:20250918T154328Z
LAST-MODIFIED:20250918T154328Z
UID:32506-1779123600-1779130800@www.impactph.org
SUMMARY:Executive Board Meeting
DESCRIPTION:
URL:https://www.impactph.org/event/executive-board-meeting-78/
LOCATION:IMPACT Administration\, 1001 Military Street\, Port Huron\, MI\, 48060\, United States
CATEGORIES:Event,Executive Board Meetings
ORGANIZER;CN="Executive Director":MAILTO:kcurtis@impactph.org
END:VEVENT
BEGIN:VEVENT
DTSTART;TZID=America/Detroit:20260615T170000
DTEND;TZID=America/Detroit:20260615T190000
DTSTAMP:20260425T064801
CREATED:20250918T154329Z
LAST-MODIFIED:20250918T154329Z
UID:32507-1781542800-1781550000@www.impactph.org
SUMMARY:Executive Board Meeting
DESCRIPTION:
URL:https://www.impactph.org/event/executive-board-meeting-79/
LOCATION:IMPACT Administration\, 1001 Military Street\, Port Huron\, MI\, 48060\, United States
CATEGORIES:Event,Executive Board Meetings
ORGANIZER;CN="Executive Director":MAILTO:kcurtis@impactph.org
END:VEVENT
BEGIN:VEVENT
DTSTART;TZID=America/Detroit:20260921T170000
DTEND;TZID=America/Detroit:20260921T190000
DTSTAMP:20260425T064801
CREATED:20250918T154342Z
LAST-MODIFIED:20250918T154342Z
UID:32508-1790010000-1790017200@www.impactph.org
SUMMARY:Executive Board Meeting
DESCRIPTION:
URL:https://www.impactph.org/event/executive-board-meeting-80/
LOCATION:IMPACT Administration\, 1001 Military Street\, Port Huron\, MI\, 48060\, United States
CATEGORIES:Event,Executive Board Meetings
ORGANIZER;CN="Executive Director":MAILTO:kcurtis@impactph.org
END:VEVENT
END:VCALENDAR