BEGIN:VCALENDAR
VERSION:2.0
PRODID:-//I.M.P.A.C.T. - ECPv6.15.20//NONSGML v1.0//EN
CALSCALE:GREGORIAN
METHOD:PUBLISH
X-ORIGINAL-URL:https://www.impactph.org
X-WR-CALDESC:Events for I.M.P.A.C.T.
REFRESH-INTERVAL;VALUE=DURATION:PT1H
X-Robots-Tag:noindex
X-PUBLISHED-TTL:PT1H
BEGIN:VTIMEZONE
TZID:America/Detroit
BEGIN:DAYLIGHT
TZOFFSETFROM:-0500
TZOFFSETTO:-0400
TZNAME:EDT
DTSTART:20190310T070000
END:DAYLIGHT
BEGIN:STANDARD
TZOFFSETFROM:-0400
TZOFFSETTO:-0500
TZNAME:EST
DTSTART:20191103T060000
END:STANDARD
BEGIN:DAYLIGHT
TZOFFSETFROM:-0500
TZOFFSETTO:-0400
TZNAME:EDT
DTSTART:20200308T070000
END:DAYLIGHT
BEGIN:STANDARD
TZOFFSETFROM:-0400
TZOFFSETTO:-0500
TZNAME:EST
DTSTART:20201101T060000
END:STANDARD
BEGIN:DAYLIGHT
TZOFFSETFROM:-0500
TZOFFSETTO:-0400
TZNAME:EDT
DTSTART:20210314T070000
END:DAYLIGHT
BEGIN:STANDARD
TZOFFSETFROM:-0400
TZOFFSETTO:-0500
TZNAME:EST
DTSTART:20211107T060000
END:STANDARD
BEGIN:DAYLIGHT
TZOFFSETFROM:-0500
TZOFFSETTO:-0400
TZNAME:EDT
DTSTART:20220313T070000
END:DAYLIGHT
BEGIN:STANDARD
TZOFFSETFROM:-0400
TZOFFSETTO:-0500
TZNAME:EST
DTSTART:20221106T060000
END:STANDARD
BEGIN:DAYLIGHT
TZOFFSETFROM:-0500
TZOFFSETTO:-0400
TZNAME:EDT
DTSTART:20230312T070000
END:DAYLIGHT
BEGIN:STANDARD
TZOFFSETFROM:-0400
TZOFFSETTO:-0500
TZNAME:EST
DTSTART:20231105T060000
END:STANDARD
BEGIN:DAYLIGHT
TZOFFSETFROM:-0500
TZOFFSETTO:-0400
TZNAME:EDT
DTSTART:20240310T070000
END:DAYLIGHT
BEGIN:STANDARD
TZOFFSETFROM:-0400
TZOFFSETTO:-0500
TZNAME:EST
DTSTART:20241103T060000
END:STANDARD
BEGIN:DAYLIGHT
TZOFFSETFROM:-0500
TZOFFSETTO:-0400
TZNAME:EDT
DTSTART:20250309T070000
END:DAYLIGHT
BEGIN:STANDARD
TZOFFSETFROM:-0400
TZOFFSETTO:-0500
TZNAME:EST
DTSTART:20251102T060000
END:STANDARD
BEGIN:DAYLIGHT
TZOFFSETFROM:-0500
TZOFFSETTO:-0400
TZNAME:EDT
DTSTART:20260308T070000
END:DAYLIGHT
BEGIN:STANDARD
TZOFFSETFROM:-0400
TZOFFSETTO:-0500
TZNAME:EST
DTSTART:20261101T060000
END:STANDARD
END:VTIMEZONE
BEGIN:VEVENT
DTSTART;VALUE=DATE:20251206
DTEND;VALUE=DATE:20251207
DTSTAMP:20260423T202144
CREATED:20250918T154536Z
LAST-MODIFIED:20250918T154536Z
UID:32541-1764979200-1765065599@www.impactph.org
SUMMARY:Operation Good Cheer
DESCRIPTION:
URL:https://www.impactph.org/event/operation-good-cheer-9/
LOCATION:St. Clair County International Airport\, 177 Ash Drive\, Kimball\, MI\, 48074\, United States
CATEGORIES:Agency / Community Events,Event
ORGANIZER;CN="Executive Director":MAILTO:kcurtis@impactph.org
END:VEVENT
BEGIN:VEVENT
DTSTART;VALUE=DATE:20250801
DTEND;VALUE=DATE:20250901
DTSTAMP:20260423T202144
CREATED:20241004T135349Z
LAST-MODIFIED:20241004T135349Z
UID:17188-1754006400-1756684799@www.impactph.org
SUMMARY:United Way Campaign
DESCRIPTION:
URL:https://www.impactph.org/event/united-way-campaign-4/
CATEGORIES:Agency / Community Events
ORGANIZER;CN="Kris Curtis":MAILTO:kcurtis@impactph.org
END:VEVENT
BEGIN:VEVENT
DTSTART;VALUE=DATE:20250620
DTEND;VALUE=DATE:20250621
DTSTAMP:20260423T202144
CREATED:20241004T135031Z
LAST-MODIFIED:20241004T135031Z
UID:17169-1750377600-1750463999@www.impactph.org
SUMMARY:Picnic & Staff Recognition
DESCRIPTION:
URL:https://www.impactph.org/event/picnic-staff-recognition-6/
LOCATION:Goodells County Park\, 8264 County Park Dr.\, Goodells\, MI\, 48027\, United States
CATEGORIES:Agency / Community Events
ORGANIZER;CN="Denise Ellery":MAILTO:dellery@impactph.org
END:VEVENT
BEGIN:VEVENT
DTSTART;VALUE=DATE:20241207
DTEND;VALUE=DATE:20241208
DTSTAMP:20260423T202144
CREATED:20241004T135030Z
LAST-MODIFIED:20241004T135030Z
UID:17168-1733529600-1733615999@www.impactph.org
SUMMARY:Operation Good Cheer
DESCRIPTION:
URL:https://www.impactph.org/event/operation-good-cheer-8/
LOCATION:St. Clair County International Airport\, 177 Ash Drive\, Kimball\, MI\, 48074\, United States
CATEGORIES:Agency / Community Events
ORGANIZER;CN="Aaron Foote":MAILTO:afoote@impactph.org
END:VEVENT
BEGIN:VEVENT
DTSTART;VALUE=DATE:20240801
DTEND;VALUE=DATE:20240901
DTSTAMP:20260423T202144
CREATED:20240325T152529Z
LAST-MODIFIED:20240325T152529Z
UID:15326-1722470400-1725148799@www.impactph.org
SUMMARY:United Way Campaign
DESCRIPTION:
URL:https://www.impactph.org/event/united-way-campaign-3/
CATEGORIES:Agency / Community Events
ORGANIZER;CN="Kris Curtis":MAILTO:kcurtis@impactph.org
END:VEVENT
BEGIN:VEVENT
DTSTART;VALUE=DATE:20240614
DTEND;VALUE=DATE:20240615
DTSTAMP:20260423T202144
CREATED:20240325T152451Z
LAST-MODIFIED:20240325T152451Z
UID:15310-1718323200-1718409599@www.impactph.org
SUMMARY:Picnic & Staff Recognition
DESCRIPTION:
URL:https://www.impactph.org/event/picnic-staff-recognition-5/
LOCATION:Goodells County Park\, 8264 County Park Dr.\, Goodells\, MI\, 48027\, United States
CATEGORIES:Agency / Community Events
ORGANIZER;CN="Denise Ellery":MAILTO:dellery@impactph.org
END:VEVENT
BEGIN:VEVENT
DTSTART;VALUE=DATE:20231202
DTEND;VALUE=DATE:20231203
DTSTAMP:20260423T202144
CREATED:20240325T152451Z
LAST-MODIFIED:20240325T152451Z
UID:15309-1701475200-1701561599@www.impactph.org
SUMMARY:Operation Good Cheer
DESCRIPTION:
URL:https://www.impactph.org/event/operation-good-cheer-7/
LOCATION:St. Clair County International Airport\, 177 Ash Drive\, Kimball\, MI\, 48074\, United States
CATEGORIES:Agency / Community Events
ORGANIZER;CN="Aaron Foote":MAILTO:afoote@impactph.org
END:VEVENT
BEGIN:VEVENT
DTSTART;VALUE=DATE:20220801
DTEND;VALUE=DATE:20220901
DTSTAMP:20260423T202144
CREATED:20210924T135033Z
LAST-MODIFIED:20210924T135033Z
UID:3539-1659312000-1661990399@www.impactph.org
SUMMARY:United Way Campaign
DESCRIPTION:
URL:https://www.impactph.org/event/united-way-campaign-2/
CATEGORIES:Agency / Community Events
ORGANIZER;CN="Kris Curtis":MAILTO:kcurtis@impactph.org
END:VEVENT
BEGIN:VEVENT
DTSTART;VALUE=DATE:20220617
DTEND;VALUE=DATE:20220618
DTSTAMP:20260423T202144
CREATED:20210924T135023Z
LAST-MODIFIED:20210924T135023Z
UID:3523-1655424000-1655510399@www.impactph.org
SUMMARY:Picnic & Staff Recognition
DESCRIPTION:
URL:https://www.impactph.org/event/picnic-staff-recognition-4/
LOCATION:Goodells County Park\, 8264 County Park Dr.\, Goodells\, MI\, 48027\, United States
CATEGORIES:Agency / Community Events
ORGANIZER;CN="Denise Ellery":MAILTO:dellery@impactph.org
END:VEVENT
BEGIN:VEVENT
DTSTART;VALUE=DATE:20211204
DTEND;VALUE=DATE:20211205
DTSTAMP:20260423T202144
CREATED:20210924T135020Z
LAST-MODIFIED:20210924T135020Z
UID:3522-1638576000-1638662399@www.impactph.org
SUMMARY:Operation Good Cheer
DESCRIPTION:
URL:https://www.impactph.org/event/operation-good-cheer-6/
LOCATION:St. Clair County International Airport\, 177 Ash Drive\, Kimball\, MI\, 48074\, United States
CATEGORIES:Agency / Community Events
ORGANIZER;CN="Aaron Foote":MAILTO:afoote@impactph.org
END:VEVENT
BEGIN:VEVENT
DTSTART;VALUE=DATE:20210913
DTEND;VALUE=DATE:20210918
DTSTAMP:20260423T202144
CREATED:20201110T162028Z
LAST-MODIFIED:20201110T170913Z
UID:3209-1631491200-1631923199@www.impactph.org
SUMMARY:National Direct Support Professional Recognition Week
DESCRIPTION:
URL:https://www.impactph.org/event/national-direct-support-professional-recognition-week-3/
CATEGORIES:Agency / Community Events
ORGANIZER;CN="Executive Director":MAILTO:kcurtis@impactph.org
END:VEVENT
BEGIN:VEVENT
DTSTART;VALUE=DATE:20210801
DTEND;VALUE=DATE:20210901
DTSTAMP:20260423T202144
CREATED:20201110T162027Z
LAST-MODIFIED:20201110T170914Z
UID:3208-1627776000-1630454399@www.impactph.org
SUMMARY:United Way Campaign
DESCRIPTION:
URL:https://www.impactph.org/event/united-way-campaign/
CATEGORIES:Agency / Community Events
ORGANIZER;CN="Kris Curtis":MAILTO:kcurtis@impactph.org
END:VEVENT
BEGIN:VEVENT
DTSTART;VALUE=DATE:20210618
DTEND;VALUE=DATE:20210619
DTSTAMP:20260423T202144
CREATED:20201110T162027Z
LAST-MODIFIED:20201110T170914Z
UID:3206-1623974400-1624060799@www.impactph.org
SUMMARY:Picnic & Staff Recognition
DESCRIPTION:
URL:https://www.impactph.org/event/picnic-staff-recognition-3/
LOCATION:Goodells County Park\, 8264 County Park Dr.\, Goodells\, MI\, 48027\, United States
CATEGORIES:Agency / Community Events
ORGANIZER;CN="Denise Ellery":MAILTO:dellery@impactph.org
END:VEVENT
BEGIN:VEVENT
DTSTART;VALUE=DATE:20201205
DTEND;VALUE=DATE:20201206
DTSTAMP:20260423T202144
CREATED:20201110T162023Z
LAST-MODIFIED:20201110T170942Z
UID:3203-1607126400-1607212799@www.impactph.org
SUMMARY:Operation Good Cheer
DESCRIPTION:
URL:https://www.impactph.org/event/operation-good-cheer/
LOCATION:St. Clair County International Airport\, 177 Ash Drive\, Kimball\, MI\, 48074\, United States
CATEGORIES:Agency / Community Events
ORGANIZER;CN="Aaron Foote":MAILTO:afoote@impactph.org
END:VEVENT
END:VCALENDAR